BEGIN:VCALENDAR
VERSION:2.0
PRODID:-//Airport Coordination Netherlands - ECPv6.15.18//NONSGML v1.0//EN
CALSCALE:GREGORIAN
METHOD:PUBLISH
X-ORIGINAL-URL:https://slotcoordination.nl
X-WR-CALDESC:Events for Airport Coordination Netherlands
REFRESH-INTERVAL;VALUE=DURATION:PT1H
X-Robots-Tag:noindex
X-PUBLISHED-TTL:PT1H
BEGIN:VTIMEZONE
TZID:Europe/Amsterdam
BEGIN:DAYLIGHT
TZOFFSETFROM:+0100
TZOFFSETTO:+0200
TZNAME:CEST
DTSTART:20190331T010000
END:DAYLIGHT
BEGIN:STANDARD
TZOFFSETFROM:+0200
TZOFFSETTO:+0100
TZNAME:CET
DTSTART:20191027T010000
END:STANDARD
BEGIN:DAYLIGHT
TZOFFSETFROM:+0100
TZOFFSETTO:+0200
TZNAME:CEST
DTSTART:20200329T010000
END:DAYLIGHT
BEGIN:STANDARD
TZOFFSETFROM:+0200
TZOFFSETTO:+0100
TZNAME:CET
DTSTART:20201025T010000
END:STANDARD
BEGIN:DAYLIGHT
TZOFFSETFROM:+0100
TZOFFSETTO:+0200
TZNAME:CEST
DTSTART:20210328T010000
END:DAYLIGHT
BEGIN:STANDARD
TZOFFSETFROM:+0200
TZOFFSETTO:+0100
TZNAME:CET
DTSTART:20211031T010000
END:STANDARD
END:VTIMEZONE
BEGIN:VEVENT
DTSTART;VALUE=DATE:20201105
DTEND;VALUE=DATE:20201106
DTSTAMP:20260421T212430
CREATED:20200814T081756Z
LAST-MODIFIED:20201023T121832Z
UID:4907-1604534400-1604620799@slotcoordination.nl
SUMMARY:SAL Deadline S21
DESCRIPTION:
URL:https://slotcoordination.nl/event/sal-deadline-s21/
END:VEVENT
BEGIN:VEVENT
DTSTART;VALUE=DATE:20201117
DTEND;VALUE=DATE:20201121
DTSTAMP:20260421T212430
CREATED:20201023T122303Z
LAST-MODIFIED:20201023T122303Z
UID:5467-1605571200-1605916799@slotcoordination.nl
SUMMARY:Slot Conference SC147 - S21
DESCRIPTION:
URL:https://slotcoordination.nl/event/slot-conference-sc147-s21/
END:VEVENT
END:VCALENDAR