BEGIN:VCALENDAR
VERSION:2.0
PRODID:-//Airport Coordination Netherlands - ECPv6.15.18//NONSGML v1.0//EN
CALSCALE:GREGORIAN
METHOD:PUBLISH
X-WR-CALNAME:Airport Coordination Netherlands
X-ORIGINAL-URL:https://slotcoordination.nl
X-WR-CALDESC:Events for Airport Coordination Netherlands
REFRESH-INTERVAL;VALUE=DURATION:PT1H
X-Robots-Tag:noindex
X-PUBLISHED-TTL:PT1H
BEGIN:VTIMEZONE
TZID:Europe/Amsterdam
BEGIN:DAYLIGHT
TZOFFSETFROM:+0100
TZOFFSETTO:+0200
TZNAME:CEST
DTSTART:20190331T010000
END:DAYLIGHT
BEGIN:STANDARD
TZOFFSETFROM:+0200
TZOFFSETTO:+0100
TZNAME:CET
DTSTART:20191027T010000
END:STANDARD
BEGIN:DAYLIGHT
TZOFFSETFROM:+0100
TZOFFSETTO:+0200
TZNAME:CEST
DTSTART:20200329T010000
END:DAYLIGHT
BEGIN:STANDARD
TZOFFSETFROM:+0200
TZOFFSETTO:+0100
TZNAME:CET
DTSTART:20201025T010000
END:STANDARD
BEGIN:DAYLIGHT
TZOFFSETFROM:+0100
TZOFFSETTO:+0200
TZNAME:CEST
DTSTART:20210328T010000
END:DAYLIGHT
BEGIN:STANDARD
TZOFFSETFROM:+0200
TZOFFSETTO:+0100
TZNAME:CET
DTSTART:20211031T010000
END:STANDARD
END:VTIMEZONE
BEGIN:VEVENT
DTSTART;TZID=Europe/Amsterdam:20200101T080000
DTEND;TZID=Europe/Amsterdam:20200101T170000
DTSTAMP:20260422T135922
CREATED:20191018T124209Z
LAST-MODIFIED:20191018T124209Z
UID:3969-1577865600-1577898000@slotcoordination.nl
SUMMARY:Office closed due to New Year’s Day
DESCRIPTION:
URL:https://slotcoordination.nl/event/office-closed-due-to-new-years-day-2/
END:VEVENT
BEGIN:VEVENT
DTSTART;TZID=Europe/Amsterdam:20200108T080000
DTEND;TZID=Europe/Amsterdam:20200108T170000
DTSTAMP:20260422T135922
CREATED:20191018T124131Z
LAST-MODIFIED:20191018T124131Z
UID:3965-1578470400-1578502800@slotcoordination.nl
SUMMARY:Telephone Consultation 14:00 to 16:00 LT AMS
DESCRIPTION:
URL:https://slotcoordination.nl/event/telephone-consultation-1400-to-1600-lt-ams-50/
END:VEVENT
BEGIN:VEVENT
DTSTART;VALUE=DATE:20200115
DTEND;VALUE=DATE:20200116
DTSTAMP:20260422T135922
CREATED:20191018T125000Z
LAST-MODIFIED:20191018T125000Z
UID:3997-1579046400-1579132799@slotcoordination.nl
SUMMARY:Telephone Consultation 14:00 to 16:00 LT AMS
DESCRIPTION:
URL:https://slotcoordination.nl/event/telephone-consultation-1400-to-1600-lt-ams-51/
END:VEVENT
BEGIN:VEVENT
DTSTART;VALUE=DATE:20200122
DTEND;VALUE=DATE:20200123
DTSTAMP:20260422T135922
CREATED:20191018T125021Z
LAST-MODIFIED:20191018T125034Z
UID:4001-1579651200-1579737599@slotcoordination.nl
SUMMARY:Telephone Consultation 14:00 to 16:00 LT AMS
DESCRIPTION:
URL:https://slotcoordination.nl/event/telephone-consultation-1400-to-1600-lt-ams-52/
END:VEVENT
BEGIN:VEVENT
DTSTART;VALUE=DATE:20200129
DTEND;VALUE=DATE:20200130
DTSTAMP:20260422T135922
CREATED:20191018T125416Z
LAST-MODIFIED:20191018T125416Z
UID:4005-1580256000-1580342399@slotcoordination.nl
SUMMARY:Telephone Consultation 14:00 to 16:00 LT AMS
DESCRIPTION:
URL:https://slotcoordination.nl/event/telephone-consultation-1400-to-1600-lt-ams-53/
END:VEVENT
BEGIN:VEVENT
DTSTART;VALUE=DATE:20200131
DTEND;VALUE=DATE:20200201
DTSTAMP:20260422T135922
CREATED:20191018T124723Z
LAST-MODIFIED:20191018T124723Z
UID:3989-1580428800-1580515199@slotcoordination.nl
SUMMARY:Historics Baseline Date S20
DESCRIPTION:
URL:https://slotcoordination.nl/event/historics-baseline-date-s20/
END:VEVENT
END:VCALENDAR