BEGIN:VCALENDAR
VERSION:2.0
PRODID:-//Airport Coordination Netherlands - ECPv6.15.18//NONSGML v1.0//EN
CALSCALE:GREGORIAN
METHOD:PUBLISH
X-WR-CALNAME:Airport Coordination Netherlands
X-ORIGINAL-URL:https://slotcoordination.nl
X-WR-CALDESC:Events for Airport Coordination Netherlands
REFRESH-INTERVAL;VALUE=DURATION:PT1H
X-Robots-Tag:noindex
X-PUBLISHED-TTL:PT1H
BEGIN:VTIMEZONE
TZID:Europe/Amsterdam
BEGIN:DAYLIGHT
TZOFFSETFROM:+0100
TZOFFSETTO:+0200
TZNAME:CEST
DTSTART:20180325T010000
END:DAYLIGHT
BEGIN:STANDARD
TZOFFSETFROM:+0200
TZOFFSETTO:+0100
TZNAME:CET
DTSTART:20181028T010000
END:STANDARD
BEGIN:DAYLIGHT
TZOFFSETFROM:+0100
TZOFFSETTO:+0200
TZNAME:CEST
DTSTART:20190331T010000
END:DAYLIGHT
BEGIN:STANDARD
TZOFFSETFROM:+0200
TZOFFSETTO:+0100
TZNAME:CET
DTSTART:20191027T010000
END:STANDARD
BEGIN:DAYLIGHT
TZOFFSETFROM:+0100
TZOFFSETTO:+0200
TZNAME:CEST
DTSTART:20200329T010000
END:DAYLIGHT
BEGIN:STANDARD
TZOFFSETFROM:+0200
TZOFFSETTO:+0100
TZNAME:CET
DTSTART:20201025T010000
END:STANDARD
END:VTIMEZONE
BEGIN:VEVENT
DTSTART;TZID=Europe/Amsterdam:20191204T080000
DTEND;TZID=Europe/Amsterdam:20191204T170000
DTSTAMP:20260422T153121
CREATED:20191018T123749Z
LAST-MODIFIED:20191018T123749Z
UID:3949-1575446400-1575478800@slotcoordination.nl
SUMMARY:Telephone Consultation 14:00 to 16:00 LT AMS
DESCRIPTION:
URL:https://slotcoordination.nl/event/telephone-consultation-1400-to-1600-lt-ams-47/
END:VEVENT
BEGIN:VEVENT
DTSTART;TZID=Europe/Amsterdam:20191211T080000
DTEND;TZID=Europe/Amsterdam:20191211T170000
DTSTAMP:20260422T153121
CREATED:20191018T123812Z
LAST-MODIFIED:20191018T123812Z
UID:3953-1576051200-1576083600@slotcoordination.nl
SUMMARY:Telephone Consultation 14:00 to 16:00 LT AMS
DESCRIPTION:
URL:https://slotcoordination.nl/event/telephone-consultation-1400-to-1600-lt-ams-48/
END:VEVENT
BEGIN:VEVENT
DTSTART;VALUE=DATE:20191215
DTEND;VALUE=DATE:20191216
DTSTAMP:20260422T153121
CREATED:20191018T124252Z
LAST-MODIFIED:20191018T124252Z
UID:3973-1576368000-1576454399@slotcoordination.nl
SUMMARY:Series Return Deadline S20
DESCRIPTION:
URL:https://slotcoordination.nl/event/series-return-deadline-s20/
END:VEVENT
BEGIN:VEVENT
DTSTART;TZID=Europe/Amsterdam:20191218T080000
DTEND;TZID=Europe/Amsterdam:20191218T170000
DTSTAMP:20260422T153121
CREATED:20191018T123838Z
LAST-MODIFIED:20191018T123838Z
UID:3957-1576656000-1576688400@slotcoordination.nl
SUMMARY:Telephone Consultation 14:00 to 16:00 LT AMS
DESCRIPTION:
URL:https://slotcoordination.nl/event/telephone-consultation-1400-to-1600-lt-ams-49/
END:VEVENT
BEGIN:VEVENT
DTSTART;TZID=Europe/Amsterdam:20191225T080000
DTEND;TZID=Europe/Amsterdam:20191226T170000
DTSTAMP:20260422T153121
CREATED:20191018T124046Z
LAST-MODIFIED:20191018T124046Z
UID:3961-1577260800-1577379600@slotcoordination.nl
SUMMARY:Office closed due to Christmas
DESCRIPTION:
URL:https://slotcoordination.nl/event/office-closed-due-to-christmas-2/
END:VEVENT
END:VCALENDAR