BEGIN:VCALENDAR
VERSION:2.0
PRODID:-//Airport Coordination Netherlands - ECPv6.15.18//NONSGML v1.0//EN
CALSCALE:GREGORIAN
METHOD:PUBLISH
X-ORIGINAL-URL:https://slotcoordination.nl
X-WR-CALDESC:Events for Airport Coordination Netherlands
REFRESH-INTERVAL;VALUE=DURATION:PT1H
X-Robots-Tag:noindex
X-PUBLISHED-TTL:PT1H
BEGIN:VTIMEZONE
TZID:Europe/Amsterdam
BEGIN:DAYLIGHT
TZOFFSETFROM:+0100
TZOFFSETTO:+0200
TZNAME:CEST
DTSTART:20180325T010000
END:DAYLIGHT
BEGIN:STANDARD
TZOFFSETFROM:+0200
TZOFFSETTO:+0100
TZNAME:CET
DTSTART:20181028T010000
END:STANDARD
BEGIN:DAYLIGHT
TZOFFSETFROM:+0100
TZOFFSETTO:+0200
TZNAME:CEST
DTSTART:20190331T010000
END:DAYLIGHT
BEGIN:STANDARD
TZOFFSETFROM:+0200
TZOFFSETTO:+0100
TZNAME:CET
DTSTART:20191027T010000
END:STANDARD
BEGIN:DAYLIGHT
TZOFFSETFROM:+0100
TZOFFSETTO:+0200
TZNAME:CEST
DTSTART:20200329T010000
END:DAYLIGHT
BEGIN:STANDARD
TZOFFSETFROM:+0200
TZOFFSETTO:+0100
TZNAME:CET
DTSTART:20201025T010000
END:STANDARD
END:VTIMEZONE
BEGIN:VEVENT
DTSTART;VALUE=DATE:20191104
DTEND;VALUE=DATE:20191105
DTSTAMP:20260422T171504
CREATED:20191018T124420Z
LAST-MODIFIED:20191018T124420Z
UID:3977-1572825600-1572911999@slotcoordination.nl
SUMMARY:Appointments calendar opened to airlines to make appointments with coordinators
DESCRIPTION:
URL:https://slotcoordination.nl/event/appointments-calendar-opened-to-airlines-to-make-appointments-with-coordinators/
END:VEVENT
BEGIN:VEVENT
DTSTART;TZID=Europe/Amsterdam:20191106T080000
DTEND;TZID=Europe/Amsterdam:20191106T170000
DTSTAMP:20260422T171504
CREATED:20191018T123607Z
LAST-MODIFIED:20191018T123607Z
UID:3933-1573027200-1573059600@slotcoordination.nl
SUMMARY:Telephone Consultation 14:00 to 16:00 LT AMS
DESCRIPTION:
URL:https://slotcoordination.nl/event/telephone-consultation-1400-to-1600-lt-ams-43/
END:VEVENT
BEGIN:VEVENT
DTSTART;VALUE=DATE:20191112
DTEND;VALUE=DATE:20191116
DTSTAMP:20260422T171504
CREATED:20191018T124630Z
LAST-MODIFIED:20191018T124630Z
UID:3985-1573516800-1573862399@slotcoordination.nl
SUMMARY:IATA Slot Conference S20
DESCRIPTION:S20
URL:https://slotcoordination.nl/event/iata-slot-conference-s20/
END:VEVENT
BEGIN:VEVENT
DTSTART;TZID=Europe/Amsterdam:20191113T080000
DTEND;TZID=Europe/Amsterdam:20191113T170000
DTSTAMP:20260422T171504
CREATED:20191018T123627Z
LAST-MODIFIED:20191018T123627Z
UID:3937-1573632000-1573664400@slotcoordination.nl
SUMMARY:Telephone Consultation 14:00 to 16:00 LT AMS
DESCRIPTION:
URL:https://slotcoordination.nl/event/telephone-consultation-1400-to-1600-lt-ams-44/
END:VEVENT
BEGIN:VEVENT
DTSTART;TZID=Europe/Amsterdam:20191120T080000
DTEND;TZID=Europe/Amsterdam:20191120T170000
DTSTAMP:20260422T171504
CREATED:20191018T123708Z
LAST-MODIFIED:20191018T123708Z
UID:3941-1574236800-1574269200@slotcoordination.nl
SUMMARY:Telephone Consultation 14:00 to 16:00 LT AMS
DESCRIPTION:
URL:https://slotcoordination.nl/event/telephone-consultation-1400-to-1600-lt-ams-45/
END:VEVENT
BEGIN:VEVENT
DTSTART;TZID=Europe/Amsterdam:20191127T080000
DTEND;TZID=Europe/Amsterdam:20191127T170000
DTSTAMP:20260422T171504
CREATED:20191018T123728Z
LAST-MODIFIED:20191018T123728Z
UID:3945-1574841600-1574874000@slotcoordination.nl
SUMMARY:Telephone Consultation 14:00 to 16:00 LT AMS
DESCRIPTION:
URL:https://slotcoordination.nl/event/telephone-consultation-1400-to-1600-lt-ams-46/
END:VEVENT
END:VCALENDAR