BEGIN:VCALENDAR
VERSION:2.0
PRODID:-//Airport Coordination Netherlands - ECPv6.15.18//NONSGML v1.0//EN
CALSCALE:GREGORIAN
METHOD:PUBLISH
X-ORIGINAL-URL:https://slotcoordination.nl
X-WR-CALDESC:Events for Airport Coordination Netherlands
REFRESH-INTERVAL;VALUE=DURATION:PT1H
X-Robots-Tag:noindex
X-PUBLISHED-TTL:PT1H
BEGIN:VTIMEZONE
TZID:Europe/Amsterdam
BEGIN:DAYLIGHT
TZOFFSETFROM:+0100
TZOFFSETTO:+0200
TZNAME:CEST
DTSTART:20180325T010000
END:DAYLIGHT
BEGIN:STANDARD
TZOFFSETFROM:+0200
TZOFFSETTO:+0100
TZNAME:CET
DTSTART:20181028T010000
END:STANDARD
BEGIN:DAYLIGHT
TZOFFSETFROM:+0100
TZOFFSETTO:+0200
TZNAME:CEST
DTSTART:20190331T010000
END:DAYLIGHT
BEGIN:STANDARD
TZOFFSETFROM:+0200
TZOFFSETTO:+0100
TZNAME:CET
DTSTART:20191027T010000
END:STANDARD
BEGIN:DAYLIGHT
TZOFFSETFROM:+0100
TZOFFSETTO:+0200
TZNAME:CEST
DTSTART:20200329T010000
END:DAYLIGHT
BEGIN:STANDARD
TZOFFSETFROM:+0200
TZOFFSETTO:+0100
TZNAME:CET
DTSTART:20201025T010000
END:STANDARD
END:VTIMEZONE
BEGIN:VEVENT
DTSTART;TZID=Europe/Amsterdam:20190904T080000
DTEND;TZID=Europe/Amsterdam:20190904T170000
DTSTAMP:20260422T204857
CREATED:20190510T135811Z
LAST-MODIFIED:20190510T135811Z
UID:3507-1567584000-1567616400@slotcoordination.nl
SUMMARY:Telephone Consultation 14:00 to 16:00 LT AMS
DESCRIPTION:
URL:https://slotcoordination.nl/event/telephone-consultation-1400-to-1600-lt-ams-29/
END:VEVENT
BEGIN:VEVENT
DTSTART;TZID=Europe/Amsterdam:20190909T080000
DTEND;TZID=Europe/Amsterdam:20190909T170000
DTSTAMP:20260422T204857
CREATED:20190510T141924Z
LAST-MODIFIED:20190510T141924Z
UID:3587-1568016000-1568048400@slotcoordination.nl
SUMMARY:SHL Deadline S20
DESCRIPTION:
URL:https://slotcoordination.nl/event/shl-deadline-s20/
END:VEVENT
BEGIN:VEVENT
DTSTART;TZID=Europe/Amsterdam:20190911T080000
DTEND;TZID=Europe/Amsterdam:20190911T170000
DTSTAMP:20260422T204857
CREATED:20190510T135839Z
LAST-MODIFIED:20190510T135839Z
UID:3511-1568188800-1568221200@slotcoordination.nl
SUMMARY:Telephone Consultation 14:00 to 16:00 LT AMS
DESCRIPTION:
URL:https://slotcoordination.nl/event/telephone-consultation-1400-to-1600-lt-ams-30/
END:VEVENT
BEGIN:VEVENT
DTSTART;TZID=Europe/Amsterdam:20190918T080000
DTEND;TZID=Europe/Amsterdam:20190918T170000
DTSTAMP:20260422T204857
CREATED:20190510T135911Z
LAST-MODIFIED:20190510T135911Z
UID:3515-1568793600-1568826000@slotcoordination.nl
SUMMARY:Telephone Consultation 14:00 to 16:00 LT AMS
DESCRIPTION:
URL:https://slotcoordination.nl/event/telephone-consultation-1400-to-1600-lt-ams-31/
END:VEVENT
BEGIN:VEVENT
DTSTART;TZID=Europe/Amsterdam:20190925T080000
DTEND;TZID=Europe/Amsterdam:20190925T170000
DTSTAMP:20260422T204857
CREATED:20190510T135953Z
LAST-MODIFIED:20190510T135953Z
UID:3519-1569398400-1569430800@slotcoordination.nl
SUMMARY:Telephone Consultation 14:00 to 16:00 LT AMS
DESCRIPTION:
URL:https://slotcoordination.nl/event/telephone-consultation-1400-to-1600-lt-ams-32/
END:VEVENT
BEGIN:VEVENT
DTSTART;TZID=Europe/Amsterdam:20190926T080000
DTEND;TZID=Europe/Amsterdam:20190926T170000
DTSTAMP:20260422T204857
CREATED:20190510T142020Z
LAST-MODIFIED:20190510T142020Z
UID:3591-1569484800-1569517200@slotcoordination.nl
SUMMARY:Agreed Historics Deadline S20
DESCRIPTION:
URL:https://slotcoordination.nl/event/agreed-historics-deadline-s20/
END:VEVENT
END:VCALENDAR