BEGIN:VCALENDAR
VERSION:2.0
PRODID:-//Airport Coordination Netherlands - ECPv6.15.18//NONSGML v1.0//EN
CALSCALE:GREGORIAN
METHOD:PUBLISH
X-WR-CALNAME:Airport Coordination Netherlands
X-ORIGINAL-URL:https://slotcoordination.nl
X-WR-CALDESC:Events for Airport Coordination Netherlands
REFRESH-INTERVAL;VALUE=DURATION:PT1H
X-Robots-Tag:noindex
X-PUBLISHED-TTL:PT1H
BEGIN:VTIMEZONE
TZID:Europe/Amsterdam
BEGIN:DAYLIGHT
TZOFFSETFROM:+0100
TZOFFSETTO:+0200
TZNAME:CEST
DTSTART:20180325T010000
END:DAYLIGHT
BEGIN:STANDARD
TZOFFSETFROM:+0200
TZOFFSETTO:+0100
TZNAME:CET
DTSTART:20181028T010000
END:STANDARD
BEGIN:DAYLIGHT
TZOFFSETFROM:+0100
TZOFFSETTO:+0200
TZNAME:CEST
DTSTART:20190331T010000
END:DAYLIGHT
BEGIN:STANDARD
TZOFFSETFROM:+0200
TZOFFSETTO:+0100
TZNAME:CET
DTSTART:20191027T010000
END:STANDARD
BEGIN:DAYLIGHT
TZOFFSETFROM:+0100
TZOFFSETTO:+0200
TZNAME:CEST
DTSTART:20200329T010000
END:DAYLIGHT
BEGIN:STANDARD
TZOFFSETFROM:+0200
TZOFFSETTO:+0100
TZNAME:CET
DTSTART:20201025T010000
END:STANDARD
END:VTIMEZONE
BEGIN:VEVENT
DTSTART;TZID=Europe/Amsterdam:20190403T080000
DTEND;TZID=Europe/Amsterdam:20190403T170000
DTSTAMP:20260423T044634
CREATED:20190510T142823Z
LAST-MODIFIED:20190510T142823Z
UID:3619-1554278400-1554310800@slotcoordination.nl
SUMMARY:Telephone Consultation 14:00 to 16:00 LT AMS
DESCRIPTION:
URL:https://slotcoordination.nl/event/telephone-consultation-1400-to-1600-lt-ams-41/
END:VEVENT
BEGIN:VEVENT
DTSTART;TZID=Europe/Amsterdam:20190410T080000
DTEND;TZID=Europe/Amsterdam:20190410T170000
DTSTAMP:20260423T044634
CREATED:20190510T142802Z
LAST-MODIFIED:20190510T142802Z
UID:3615-1554883200-1554915600@slotcoordination.nl
SUMMARY:Telephone Consultation 14:00 to 16:00 LT AMS
DESCRIPTION:
URL:https://slotcoordination.nl/event/telephone-consultation-1400-to-1600-lt-ams-40/
END:VEVENT
BEGIN:VEVENT
DTSTART;TZID=Europe/Amsterdam:20190417T080000
DTEND;TZID=Europe/Amsterdam:20190417T170000
DTSTAMP:20260423T044634
CREATED:20190510T142726Z
LAST-MODIFIED:20190510T142726Z
UID:3611-1555488000-1555520400@slotcoordination.nl
SUMMARY:Telephone Consultation 14:00 to 16:00 LT AMS
DESCRIPTION:
URL:https://slotcoordination.nl/event/telephone-consultation-1400-to-1600-lt-ams-39/
END:VEVENT
BEGIN:VEVENT
DTSTART;TZID=Europe/Amsterdam:20190422T080000
DTEND;TZID=Europe/Amsterdam:20190422T170000
DTSTAMP:20260423T044634
CREATED:20190510T141628Z
LAST-MODIFIED:20190510T141628Z
UID:3569-1555920000-1555952400@slotcoordination.nl
SUMMARY:SHL Deadline W19
DESCRIPTION:
URL:https://slotcoordination.nl/event/shl-deadline-w19/
END:VEVENT
BEGIN:VEVENT
DTSTART;TZID=Europe/Amsterdam:20190424T080000
DTEND;TZID=Europe/Amsterdam:20190424T170000
DTSTAMP:20260423T044634
CREATED:20190510T142651Z
LAST-MODIFIED:20190510T142651Z
UID:3607-1556092800-1556125200@slotcoordination.nl
SUMMARY:Telephone Consultation 14:00 to 16:00 LT AMS
DESCRIPTION:
URL:https://slotcoordination.nl/event/telephone-consultation-1400-to-1600-lt-ams-38/
END:VEVENT
END:VCALENDAR