BEGIN:VCALENDAR
VERSION:2.0
PRODID:-//Airport Coordination Netherlands - ECPv6.15.18//NONSGML v1.0//EN
CALSCALE:GREGORIAN
METHOD:PUBLISH
X-WR-CALNAME:Airport Coordination Netherlands
X-ORIGINAL-URL:https://slotcoordination.nl
X-WR-CALDESC:Events for Airport Coordination Netherlands
REFRESH-INTERVAL;VALUE=DURATION:PT1H
X-Robots-Tag:noindex
X-PUBLISHED-TTL:PT1H
BEGIN:VTIMEZONE
TZID:Europe/Amsterdam
BEGIN:DAYLIGHT
TZOFFSETFROM:+0100
TZOFFSETTO:+0200
TZNAME:CEST
DTSTART:20170326T010000
END:DAYLIGHT
BEGIN:STANDARD
TZOFFSETFROM:+0200
TZOFFSETTO:+0100
TZNAME:CET
DTSTART:20171029T010000
END:STANDARD
BEGIN:DAYLIGHT
TZOFFSETFROM:+0100
TZOFFSETTO:+0200
TZNAME:CEST
DTSTART:20180325T010000
END:DAYLIGHT
BEGIN:STANDARD
TZOFFSETFROM:+0200
TZOFFSETTO:+0100
TZNAME:CET
DTSTART:20181028T010000
END:STANDARD
BEGIN:DAYLIGHT
TZOFFSETFROM:+0100
TZOFFSETTO:+0200
TZNAME:CEST
DTSTART:20190331T010000
END:DAYLIGHT
BEGIN:STANDARD
TZOFFSETFROM:+0200
TZOFFSETTO:+0100
TZNAME:CET
DTSTART:20191027T010000
END:STANDARD
END:VTIMEZONE
BEGIN:VEVENT
DTSTART;VALUE=DATE:20181205
DTEND;VALUE=DATE:20181206
DTSTAMP:20260423T102922
CREATED:20180724T100510Z
LAST-MODIFIED:20181130T125626Z
UID:2935-1543968000-1544054399@slotcoordination.nl
SUMMARY:Telephone Consultation 14:00 to 16:00 LT AMS
DESCRIPTION:
URL:https://slotcoordination.nl/event/telephone-consultation-69/
END:VEVENT
BEGIN:VEVENT
DTSTART;VALUE=DATE:20181212
DTEND;VALUE=DATE:20181213
DTSTAMP:20260423T102922
CREATED:20180724T100608Z
LAST-MODIFIED:20181130T131125Z
UID:2939-1544572800-1544659199@slotcoordination.nl
SUMMARY:Telephone Consultation 14:00 to 16:00 LT AMS
DESCRIPTION:
URL:https://slotcoordination.nl/event/telephone-consultation-70/
END:VEVENT
BEGIN:VEVENT
DTSTART;VALUE=DATE:20181219
DTEND;VALUE=DATE:20181220
DTSTAMP:20260423T102922
CREATED:20180724T100642Z
LAST-MODIFIED:20181130T125654Z
UID:2943-1545177600-1545263999@slotcoordination.nl
SUMMARY:Telephone Consultation 14:00 to 16:00 LT AMS
DESCRIPTION:
URL:https://slotcoordination.nl/event/telephone-consultation-71/
END:VEVENT
BEGIN:VEVENT
DTSTART;VALUE=DATE:20181225
DTEND;VALUE=DATE:20181226
DTSTAMP:20260423T102922
CREATED:20181130T131236Z
LAST-MODIFIED:20181130T131356Z
UID:3175-1545696000-1545782399@slotcoordination.nl
SUMMARY:Office closed due to Christmas
DESCRIPTION:
URL:https://slotcoordination.nl/event/office-closed-due-to-christmas-copy/
END:VEVENT
BEGIN:VEVENT
DTSTART;VALUE=DATE:20181226
DTEND;VALUE=DATE:20181227
DTSTAMP:20260423T102922
CREATED:20181130T124614Z
LAST-MODIFIED:20181130T131943Z
UID:3145-1545782400-1545868799@slotcoordination.nl
SUMMARY:Office closed due to Christmas
DESCRIPTION:
URL:https://slotcoordination.nl/event/office-closed-due-to-christmas/
END:VEVENT
BEGIN:VEVENT
DTSTART;VALUE=DATE:20181227
DTEND;VALUE=DATE:20181228
DTSTAMP:20260423T102922
CREATED:20180724T100712Z
LAST-MODIFIED:20181130T125603Z
UID:2947-1545868800-1545955199@slotcoordination.nl
SUMMARY:Telephone Consultation 14:00 to 16:00 LT AMS
DESCRIPTION:
URL:https://slotcoordination.nl/event/no-telephone-consultation-3/
END:VEVENT
END:VCALENDAR