BEGIN:VCALENDAR
VERSION:2.0
PRODID:-//Airport Coordination Netherlands - ECPv6.15.18//NONSGML v1.0//EN
CALSCALE:GREGORIAN
METHOD:PUBLISH
X-WR-CALNAME:Airport Coordination Netherlands
X-ORIGINAL-URL:https://slotcoordination.nl
X-WR-CALDESC:Events for Airport Coordination Netherlands
REFRESH-INTERVAL;VALUE=DURATION:PT1H
X-Robots-Tag:noindex
X-PUBLISHED-TTL:PT1H
BEGIN:VTIMEZONE
TZID:Europe/Amsterdam
BEGIN:DAYLIGHT
TZOFFSETFROM:+0100
TZOFFSETTO:+0200
TZNAME:CEST
DTSTART:20180325T010000
END:DAYLIGHT
BEGIN:STANDARD
TZOFFSETFROM:+0200
TZOFFSETTO:+0100
TZNAME:CET
DTSTART:20181028T010000
END:STANDARD
BEGIN:DAYLIGHT
TZOFFSETFROM:+0100
TZOFFSETTO:+0200
TZNAME:CEST
DTSTART:20190331T010000
END:DAYLIGHT
BEGIN:STANDARD
TZOFFSETFROM:+0200
TZOFFSETTO:+0100
TZNAME:CET
DTSTART:20191027T010000
END:STANDARD
BEGIN:DAYLIGHT
TZOFFSETFROM:+0100
TZOFFSETTO:+0200
TZNAME:CEST
DTSTART:20200329T010000
END:DAYLIGHT
BEGIN:STANDARD
TZOFFSETFROM:+0200
TZOFFSETTO:+0100
TZNAME:CET
DTSTART:20201025T010000
END:STANDARD
END:VTIMEZONE
BEGIN:VEVENT
DTSTART;TZID=Europe/Amsterdam:20191031T080000
DTEND;TZID=Europe/Amsterdam:20191031T170000
DTSTAMP:20260420T163132
CREATED:20190510T142122Z
LAST-MODIFIED:20190510T142122Z
UID:3599-1572508800-1572541200@slotcoordination.nl
SUMMARY:SAL Deadline S20
DESCRIPTION:
URL:https://slotcoordination.nl/event/sal-deadline-s20/
END:VEVENT
BEGIN:VEVENT
DTSTART;TZID=Europe/Amsterdam:20191030T080000
DTEND;TZID=Europe/Amsterdam:20191030T170000
DTSTAMP:20260420T163132
CREATED:20191018T123514Z
LAST-MODIFIED:20191018T123514Z
UID:3929-1572422400-1572454800@slotcoordination.nl
SUMMARY:Telephone Consultation 14:00 to 16:00 LT AMS
DESCRIPTION:
URL:https://slotcoordination.nl/event/telephone-consultation-1400-to-1600-lt-ams-42/
END:VEVENT
BEGIN:VEVENT
DTSTART;VALUE=DATE:20191029
DTEND;VALUE=DATE:20191030
DTSTAMP:20260420T163132
CREATED:20191018T124537Z
LAST-MODIFIED:20191018T124537Z
UID:3981-1572307200-1572393599@slotcoordination.nl
SUMMARY:Appointments calendar opened tocoordinators to make appointments with airlines
DESCRIPTION:
URL:https://slotcoordination.nl/event/appointments-calendar-opened-tocoordinators-to-make-appointments-with-airlines/
END:VEVENT
BEGIN:VEVENT
DTSTART;TZID=Europe/Amsterdam:20191027T080000
DTEND;TZID=Europe/Amsterdam:20191027T170000
DTSTAMP:20260420T163132
CREATED:20190510T140942Z
LAST-MODIFIED:20190510T140942Z
UID:3557-1572163200-1572195600@slotcoordination.nl
SUMMARY:Start of Season W19
DESCRIPTION:
URL:https://slotcoordination.nl/event/start-of-season-w19/
END:VEVENT
BEGIN:VEVENT
DTSTART;VALUE=DATE:20191026
DTEND;VALUE=DATE:20191027
DTSTAMP:20260420T163132
CREATED:20191018T124813Z
LAST-MODIFIED:20191018T124813Z
UID:3993-1572048000-1572134399@slotcoordination.nl
SUMMARY:End of Season S19
DESCRIPTION:
URL:https://slotcoordination.nl/event/end-of-season-s19/
END:VEVENT
BEGIN:VEVENT
DTSTART;TZID=Europe/Amsterdam:20191023T080000
DTEND;TZID=Europe/Amsterdam:20191023T170000
DTSTAMP:20260420T163132
CREATED:20190510T140145Z
LAST-MODIFIED:20190510T140145Z
UID:3535-1571817600-1571850000@slotcoordination.nl
SUMMARY:Telephone Consultation 14:00 to 16:00 LT AMS
DESCRIPTION:
URL:https://slotcoordination.nl/event/telephone-consultation-1400-to-1600-lt-ams-36/
END:VEVENT
BEGIN:VEVENT
DTSTART;TZID=Europe/Amsterdam:20191016T080000
DTEND;TZID=Europe/Amsterdam:20191016T170000
DTSTAMP:20260420T163132
CREATED:20190510T140102Z
LAST-MODIFIED:20190510T140102Z
UID:3531-1571212800-1571245200@slotcoordination.nl
SUMMARY:Telephone Consultation 14:00 to 16:00 LT AMS
DESCRIPTION:
URL:https://slotcoordination.nl/event/telephone-consultation-1400-to-1600-lt-ams-35/
END:VEVENT
BEGIN:VEVENT
DTSTART;TZID=Europe/Amsterdam:20191009T080000
DTEND;TZID=Europe/Amsterdam:20191009T170000
DTSTAMP:20260420T163132
CREATED:20190510T140039Z
LAST-MODIFIED:20190510T140039Z
UID:3527-1570608000-1570640400@slotcoordination.nl
SUMMARY:Telephone Consultation 14:00 to 16:00 LT AMS
DESCRIPTION:
URL:https://slotcoordination.nl/event/telephone-consultation-1400-to-1600-lt-ams-34/
END:VEVENT
BEGIN:VEVENT
DTSTART;TZID=Europe/Amsterdam:20191003T080000
DTEND;TZID=Europe/Amsterdam:20191003T170000
DTSTAMP:20260420T163132
CREATED:20190510T142054Z
LAST-MODIFIED:20190510T142054Z
UID:3595-1570089600-1570122000@slotcoordination.nl
SUMMARY:Initial Submission Deadline S20
DESCRIPTION:
URL:https://slotcoordination.nl/event/initial-submission-deadline-s20/
END:VEVENT
BEGIN:VEVENT
DTSTART;TZID=Europe/Amsterdam:20191002T080000
DTEND;TZID=Europe/Amsterdam:20191002T170000
DTSTAMP:20260420T163132
CREATED:20190510T140015Z
LAST-MODIFIED:20190510T140015Z
UID:3523-1570003200-1570035600@slotcoordination.nl
SUMMARY:Telephone Consultation 14:00 to 16:00 LT AMS
DESCRIPTION:
URL:https://slotcoordination.nl/event/telephone-consultation-1400-to-1600-lt-ams-33/
END:VEVENT
BEGIN:VEVENT
DTSTART;TZID=Europe/Amsterdam:20190926T080000
DTEND;TZID=Europe/Amsterdam:20190926T170000
DTSTAMP:20260420T163132
CREATED:20190510T142020Z
LAST-MODIFIED:20190510T142020Z
UID:3591-1569484800-1569517200@slotcoordination.nl
SUMMARY:Agreed Historics Deadline S20
DESCRIPTION:
URL:https://slotcoordination.nl/event/agreed-historics-deadline-s20/
END:VEVENT
BEGIN:VEVENT
DTSTART;TZID=Europe/Amsterdam:20190925T080000
DTEND;TZID=Europe/Amsterdam:20190925T170000
DTSTAMP:20260420T163132
CREATED:20190510T135953Z
LAST-MODIFIED:20190510T135953Z
UID:3519-1569398400-1569430800@slotcoordination.nl
SUMMARY:Telephone Consultation 14:00 to 16:00 LT AMS
DESCRIPTION:
URL:https://slotcoordination.nl/event/telephone-consultation-1400-to-1600-lt-ams-32/
END:VEVENT
BEGIN:VEVENT
DTSTART;TZID=Europe/Amsterdam:20190918T080000
DTEND;TZID=Europe/Amsterdam:20190918T170000
DTSTAMP:20260420T163132
CREATED:20190510T135911Z
LAST-MODIFIED:20190510T135911Z
UID:3515-1568793600-1568826000@slotcoordination.nl
SUMMARY:Telephone Consultation 14:00 to 16:00 LT AMS
DESCRIPTION:
URL:https://slotcoordination.nl/event/telephone-consultation-1400-to-1600-lt-ams-31/
END:VEVENT
BEGIN:VEVENT
DTSTART;TZID=Europe/Amsterdam:20190911T080000
DTEND;TZID=Europe/Amsterdam:20190911T170000
DTSTAMP:20260420T163132
CREATED:20190510T135839Z
LAST-MODIFIED:20190510T135839Z
UID:3511-1568188800-1568221200@slotcoordination.nl
SUMMARY:Telephone Consultation 14:00 to 16:00 LT AMS
DESCRIPTION:
URL:https://slotcoordination.nl/event/telephone-consultation-1400-to-1600-lt-ams-30/
END:VEVENT
BEGIN:VEVENT
DTSTART;TZID=Europe/Amsterdam:20190909T080000
DTEND;TZID=Europe/Amsterdam:20190909T170000
DTSTAMP:20260420T163132
CREATED:20190510T141924Z
LAST-MODIFIED:20190510T141924Z
UID:3587-1568016000-1568048400@slotcoordination.nl
SUMMARY:SHL Deadline S20
DESCRIPTION:
URL:https://slotcoordination.nl/event/shl-deadline-s20/
END:VEVENT
BEGIN:VEVENT
DTSTART;TZID=Europe/Amsterdam:20190904T080000
DTEND;TZID=Europe/Amsterdam:20190904T170000
DTSTAMP:20260420T163132
CREATED:20190510T135811Z
LAST-MODIFIED:20190510T135811Z
UID:3507-1567584000-1567616400@slotcoordination.nl
SUMMARY:Telephone Consultation 14:00 to 16:00 LT AMS
DESCRIPTION:
URL:https://slotcoordination.nl/event/telephone-consultation-1400-to-1600-lt-ams-29/
END:VEVENT
BEGIN:VEVENT
DTSTART;TZID=Europe/Amsterdam:20190831T080000
DTEND;TZID=Europe/Amsterdam:20190831T170000
DTSTAMP:20260420T163132
CREATED:20190510T141834Z
LAST-MODIFIED:20190510T141843Z
UID:3581-1567238400-1567270800@slotcoordination.nl
SUMMARY:Historic Baseline Date W19
DESCRIPTION:
URL:https://slotcoordination.nl/event/historic-baseline-date/
END:VEVENT
BEGIN:VEVENT
DTSTART;TZID=Europe/Amsterdam:20190828T080000
DTEND;TZID=Europe/Amsterdam:20190828T170000
DTSTAMP:20260420T163132
CREATED:20190510T135734Z
LAST-MODIFIED:20190510T135734Z
UID:3503-1566979200-1567011600@slotcoordination.nl
SUMMARY:Telephone Consultation 14:00 to 16:00 LT AMS
DESCRIPTION:
URL:https://slotcoordination.nl/event/telephone-consultation-1400-to-1600-lt-ams-28/
END:VEVENT
BEGIN:VEVENT
DTSTART;TZID=Europe/Amsterdam:20190821T080000
DTEND;TZID=Europe/Amsterdam:20190821T170000
DTSTAMP:20260420T163132
CREATED:20190510T135715Z
LAST-MODIFIED:20190510T135715Z
UID:3499-1566374400-1566406800@slotcoordination.nl
SUMMARY:Telephone Consultation 14:00 to 16:00 LT AMS
DESCRIPTION:
URL:https://slotcoordination.nl/event/telephone-consultation-1400-to-1600-lt-ams-27/
END:VEVENT
BEGIN:VEVENT
DTSTART;TZID=Europe/Amsterdam:20190814T080000
DTEND;TZID=Europe/Amsterdam:20190814T170000
DTSTAMP:20260420T163132
CREATED:20190510T135648Z
LAST-MODIFIED:20190510T135648Z
UID:3495-1565769600-1565802000@slotcoordination.nl
SUMMARY:Telephone Consultation 14:00 to 16:00 LT AMS
DESCRIPTION:
URL:https://slotcoordination.nl/event/telephone-consultation-1400-to-1600-lt-ams-26/
END:VEVENT
BEGIN:VEVENT
DTSTART;TZID=Europe/Amsterdam:20190807T080000
DTEND;TZID=Europe/Amsterdam:20190807T170000
DTSTAMP:20260420T163132
CREATED:20190510T135629Z
LAST-MODIFIED:20190510T135629Z
UID:3491-1565164800-1565197200@slotcoordination.nl
SUMMARY:Telephone Consultation 14:00 to 16:00 LT AMS
DESCRIPTION:
URL:https://slotcoordination.nl/event/telephone-consultation-1400-to-1600-lt-ams-25/
END:VEVENT
BEGIN:VEVENT
DTSTART;TZID=Europe/Amsterdam:20190731T080000
DTEND;TZID=Europe/Amsterdam:20190731T170000
DTSTAMP:20260420T163132
CREATED:20190510T135608Z
LAST-MODIFIED:20190510T135608Z
UID:3487-1564560000-1564592400@slotcoordination.nl
SUMMARY:Telephone Consultation 14:00 to 16:00 LT AMS
DESCRIPTION:
URL:https://slotcoordination.nl/event/telephone-consultation-1400-to-1600-lt-ams-24/
END:VEVENT
BEGIN:VEVENT
DTSTART;TZID=Europe/Amsterdam:20190724T080000
DTEND;TZID=Europe/Amsterdam:20190724T170000
DTSTAMP:20260420T163132
CREATED:20190510T135549Z
LAST-MODIFIED:20190510T135549Z
UID:3483-1563955200-1563987600@slotcoordination.nl
SUMMARY:Telephone Consultation 14:00 to 16:00 LT AMS
DESCRIPTION:
URL:https://slotcoordination.nl/event/telephone-consultation-1400-to-1600-lt-ams-23/
END:VEVENT
BEGIN:VEVENT
DTSTART;TZID=Europe/Amsterdam:20190717T080000
DTEND;TZID=Europe/Amsterdam:20190717T170000
DTSTAMP:20260420T163132
CREATED:20190510T135532Z
LAST-MODIFIED:20190510T135532Z
UID:3479-1563350400-1563382800@slotcoordination.nl
SUMMARY:Telephone Consultation 14:00 to 16:00 LT AMS
DESCRIPTION:
URL:https://slotcoordination.nl/event/telephone-consultation-1400-to-1600-lt-ams-22/
END:VEVENT
BEGIN:VEVENT
DTSTART;TZID=Europe/Amsterdam:20190715T080000
DTEND;TZID=Europe/Amsterdam:20190715T170000
DTSTAMP:20260420T163132
CREATED:20190510T141757Z
LAST-MODIFIED:20190606T091439Z
UID:3577-1563177600-1563210000@slotcoordination.nl
SUMMARY:Series Return Deadline W19
DESCRIPTION:
URL:https://slotcoordination.nl/event/series-return-deadline-w19/
END:VEVENT
BEGIN:VEVENT
DTSTART;TZID=Europe/Amsterdam:20190710T080000
DTEND;TZID=Europe/Amsterdam:20190710T170000
DTSTAMP:20260420T163132
CREATED:20190510T135514Z
LAST-MODIFIED:20190510T135514Z
UID:3475-1562745600-1562778000@slotcoordination.nl
SUMMARY:Telephone Consultation 14:00 to 16:00 LT AMS
DESCRIPTION:
URL:https://slotcoordination.nl/event/telephone-consultation-1400-to-1600-lt-ams-21/
END:VEVENT
BEGIN:VEVENT
DTSTART;TZID=Europe/Amsterdam:20190703T080000
DTEND;TZID=Europe/Amsterdam:20190703T170000
DTSTAMP:20260420T163132
CREATED:20190510T135445Z
LAST-MODIFIED:20190510T135445Z
UID:3471-1562140800-1562173200@slotcoordination.nl
SUMMARY:Telephone Consultation 14:00 to 16:00 LT AMS
DESCRIPTION:
URL:https://slotcoordination.nl/event/telephone-consultation-1400-to-1600-lt-ams-20/
END:VEVENT
BEGIN:VEVENT
DTSTART;TZID=Europe/Amsterdam:20190626T080000
DTEND;TZID=Europe/Amsterdam:20190626T170000
DTSTAMP:20260420T163132
CREATED:20190510T135426Z
LAST-MODIFIED:20190510T135426Z
UID:3467-1561536000-1561568400@slotcoordination.nl
SUMMARY:Telephone Consultation 14:00 to 16:00 LT AMS
DESCRIPTION:
URL:https://slotcoordination.nl/event/telephone-consultation-1400-to-1600-lt-ams-19/
END:VEVENT
BEGIN:VEVENT
DTSTART;VALUE=DATE:20190619
DTEND;VALUE=DATE:20190620
DTSTAMP:20260420T163132
CREATED:20190510T135341Z
LAST-MODIFIED:20190510T135341Z
UID:3463-1560902400-1560988799@slotcoordination.nl
SUMMARY:Telephone Consultation 14:00 to 16:00 LT AMS
DESCRIPTION:
URL:https://slotcoordination.nl/event/telephone-consultation-1400-to-1600-lt-ams-18/
END:VEVENT
BEGIN:VEVENT
DTSTART;VALUE=DATE:20190618
DTEND;VALUE=DATE:20190621
DTSTAMP:20260420T163132
CREATED:20190510T140241Z
LAST-MODIFIED:20190510T140837Z
UID:3539-1560816000-1561075199@slotcoordination.nl
SUMMARY:IATA Slot Conference W19
DESCRIPTION:
URL:https://slotcoordination.nl/event/iata-slot-conference-s19-copy/
END:VEVENT
END:VCALENDAR