BEGIN:VCALENDAR
VERSION:2.0
PRODID:-//Airport Coordination Netherlands - ECPv6.15.18//NONSGML v1.0//EN
CALSCALE:GREGORIAN
METHOD:PUBLISH
X-WR-CALNAME:Airport Coordination Netherlands
X-ORIGINAL-URL:https://slotcoordination.nl
X-WR-CALDESC:Events for Airport Coordination Netherlands
REFRESH-INTERVAL;VALUE=DURATION:PT1H
X-Robots-Tag:noindex
X-PUBLISHED-TTL:PT1H
BEGIN:VTIMEZONE
TZID:Europe/Amsterdam
BEGIN:DAYLIGHT
TZOFFSETFROM:+0100
TZOFFSETTO:+0200
TZNAME:CEST
DTSTART:20160327T010000
END:DAYLIGHT
BEGIN:STANDARD
TZOFFSETFROM:+0200
TZOFFSETTO:+0100
TZNAME:CET
DTSTART:20161030T010000
END:STANDARD
BEGIN:DAYLIGHT
TZOFFSETFROM:+0100
TZOFFSETTO:+0200
TZNAME:CEST
DTSTART:20170326T010000
END:DAYLIGHT
BEGIN:STANDARD
TZOFFSETFROM:+0200
TZOFFSETTO:+0100
TZNAME:CET
DTSTART:20171029T010000
END:STANDARD
BEGIN:DAYLIGHT
TZOFFSETFROM:+0100
TZOFFSETTO:+0200
TZNAME:CEST
DTSTART:20180325T010000
END:DAYLIGHT
BEGIN:STANDARD
TZOFFSETFROM:+0200
TZOFFSETTO:+0100
TZNAME:CET
DTSTART:20181028T010000
END:STANDARD
BEGIN:DAYLIGHT
TZOFFSETFROM:+0100
TZOFFSETTO:+0200
TZNAME:CEST
DTSTART:20190331T010000
END:DAYLIGHT
BEGIN:STANDARD
TZOFFSETFROM:+0200
TZOFFSETTO:+0100
TZNAME:CET
DTSTART:20191027T010000
END:STANDARD
END:VTIMEZONE
BEGIN:VEVENT
DTSTART;TZID=Europe/Amsterdam:20180328T140000
DTEND;TZID=Europe/Amsterdam:20180328T160000
DTSTAMP:20260421T072939
CREATED:20171220T091406Z
LAST-MODIFIED:20171220T091406Z
UID:2217-1522245600-1522252800@slotcoordination.nl
SUMMARY:Telephone Consultation
DESCRIPTION:
URL:https://slotcoordination.nl/event/telephone-consultation-34/
END:VEVENT
BEGIN:VEVENT
DTSTART;VALUE=DATE:20180325
DTEND;VALUE=DATE:20180326
DTSTAMP:20260421T072939
CREATED:20171220T091525Z
LAST-MODIFIED:20171220T091525Z
UID:2221-1521936000-1522022399@slotcoordination.nl
SUMMARY:Start of Season S18
DESCRIPTION:
URL:https://slotcoordination.nl/event/start-season-s18/
END:VEVENT
BEGIN:VEVENT
DTSTART;TZID=Europe/Amsterdam:20180321T140000
DTEND;TZID=Europe/Amsterdam:20180321T160000
DTSTAMP:20260421T072939
CREATED:20171220T091320Z
LAST-MODIFIED:20171220T091320Z
UID:2213-1521640800-1521648000@slotcoordination.nl
SUMMARY:Telephone Consultation
DESCRIPTION:
URL:https://slotcoordination.nl/event/telephone-consultation-33/
END:VEVENT
BEGIN:VEVENT
DTSTART;TZID=Europe/Amsterdam:20180314T140000
DTEND;TZID=Europe/Amsterdam:20180314T160000
DTSTAMP:20260421T072939
CREATED:20171220T091108Z
LAST-MODIFIED:20171220T091337Z
UID:2209-1521036000-1521043200@slotcoordination.nl
SUMMARY:Telephone Consultation
DESCRIPTION:
URL:https://slotcoordination.nl/event/telephone-consultation-32/
END:VEVENT
BEGIN:VEVENT
DTSTART;TZID=Europe/Amsterdam:20180313T140000
DTEND;TZID=Europe/Amsterdam:20180313T160000
DTSTAMP:20260421T072939
CREATED:20180313T112714Z
LAST-MODIFIED:20180313T112714Z
UID:2327-1520949600-1520956800@slotcoordination.nl
SUMMARY:Telephone Consultation
DESCRIPTION:
URL:https://slotcoordination.nl/event/telephone-consultation-37/
END:VEVENT
BEGIN:VEVENT
DTSTART;TZID=Europe/Amsterdam:20180307T140000
DTEND;TZID=Europe/Amsterdam:20180307T160000
DTSTAMP:20260421T072939
CREATED:20171220T091030Z
LAST-MODIFIED:20171220T091030Z
UID:2205-1520431200-1520438400@slotcoordination.nl
SUMMARY:Telephone Consultation
DESCRIPTION:
URL:https://slotcoordination.nl/event/telephone-consultation-31/
END:VEVENT
BEGIN:VEVENT
DTSTART;TZID=Europe/Amsterdam:20180228T140000
DTEND;TZID=Europe/Amsterdam:20180228T160000
DTSTAMP:20260421T072939
CREATED:20171220T091004Z
LAST-MODIFIED:20171220T091004Z
UID:2201-1519826400-1519833600@slotcoordination.nl
SUMMARY:Telephone Consultation
DESCRIPTION:
URL:https://slotcoordination.nl/event/telephone-consultation-30/
END:VEVENT
BEGIN:VEVENT
DTSTART;TZID=Europe/Amsterdam:20180220T140000
DTEND;TZID=Europe/Amsterdam:20180220T160000
DTSTAMP:20260421T072939
CREATED:20171220T090932Z
LAST-MODIFIED:20180216T075652Z
UID:2197-1519135200-1519142400@slotcoordination.nl
SUMMARY:Telephone Consultation
DESCRIPTION:
URL:https://slotcoordination.nl/event/telephone-consultation-29/
END:VEVENT
BEGIN:VEVENT
DTSTART;TZID=Europe/Amsterdam:20180215T160000
DTEND;TZID=Europe/Amsterdam:20180215T170000
DTSTAMP:20260421T072939
CREATED:20171220T090904Z
LAST-MODIFIED:20180214T113838Z
UID:2193-1518710400-1518714000@slotcoordination.nl
SUMMARY:Telephone Consultation
DESCRIPTION:
URL:https://slotcoordination.nl/event/telephone-consultation-28/
END:VEVENT
BEGIN:VEVENT
DTSTART;TZID=Europe/Amsterdam:20180207T140000
DTEND;TZID=Europe/Amsterdam:20180207T160000
DTSTAMP:20260421T072939
CREATED:20171220T090832Z
LAST-MODIFIED:20171220T090832Z
UID:2189-1518012000-1518019200@slotcoordination.nl
SUMMARY:Telephone Consultation
DESCRIPTION:
URL:https://slotcoordination.nl/event/telephone-consultation-27/
END:VEVENT
BEGIN:VEVENT
DTSTART;TZID=Europe/Amsterdam:20180131T140000
DTEND;TZID=Europe/Amsterdam:20180131T160000
DTSTAMP:20260421T072939
CREATED:20171220T090753Z
LAST-MODIFIED:20171220T090753Z
UID:2185-1517407200-1517414400@slotcoordination.nl
SUMMARY:Telephone Consultation
DESCRIPTION:
URL:https://slotcoordination.nl/event/telephone-consultation-26/
END:VEVENT
BEGIN:VEVENT
DTSTART;TZID=Europe/Amsterdam:20180131T080000
DTEND;TZID=Europe/Amsterdam:20180131T170000
DTSTAMP:20260421T072939
CREATED:20170502T092823Z
LAST-MODIFIED:20170502T094857Z
UID:1448-1517385600-1517418000@slotcoordination.nl
SUMMARY:Historics Baseline Date S18
DESCRIPTION:
URL:https://slotcoordination.nl/event/historics-baseline-date-w17-copy/
END:VEVENT
BEGIN:VEVENT
DTSTART;TZID=Europe/Amsterdam:20180124T140000
DTEND;TZID=Europe/Amsterdam:20180124T160000
DTSTAMP:20260421T072939
CREATED:20171220T090703Z
LAST-MODIFIED:20171220T090703Z
UID:2181-1516802400-1516809600@slotcoordination.nl
SUMMARY:No Telephone Consultation
DESCRIPTION:
URL:https://slotcoordination.nl/event/no-telephone-consultation/
END:VEVENT
BEGIN:VEVENT
DTSTART;TZID=Europe/Amsterdam:20180124T090000
DTEND;TZID=Europe/Amsterdam:20180124T130000
DTSTAMP:20260421T072939
CREATED:20171220T090551Z
LAST-MODIFIED:20171220T090551Z
UID:2177-1516784400-1516798800@slotcoordination.nl
SUMMARY:Schedules Optimization Meeting (SOM S18)
DESCRIPTION:
URL:https://slotcoordination.nl/event/schedules-optimization-meeting-som-s18-2/
END:VEVENT
BEGIN:VEVENT
DTSTART;TZID=Europe/Amsterdam:20180123T093000
DTEND;TZID=Europe/Amsterdam:20180123T173000
DTSTAMP:20260421T072939
CREATED:20171220T090511Z
LAST-MODIFIED:20171220T090611Z
UID:2173-1516699800-1516728600@slotcoordination.nl
SUMMARY:Schedules Optimization Meeting (SOM S18)
DESCRIPTION:
URL:https://slotcoordination.nl/event/schedules-optimization-meeting-som-s18/
END:VEVENT
BEGIN:VEVENT
DTSTART;TZID=Europe/Amsterdam:20180117T140000
DTEND;TZID=Europe/Amsterdam:20180117T160000
DTSTAMP:20260421T072939
CREATED:20171220T090105Z
LAST-MODIFIED:20171220T090302Z
UID:2161-1516197600-1516204800@slotcoordination.nl
SUMMARY:Telephone Consultation
DESCRIPTION:
URL:https://slotcoordination.nl/event/telephone-consultation-23/
END:VEVENT
BEGIN:VEVENT
DTSTART;VALUE=DATE:20180115
DTEND;VALUE=DATE:20180116
DTSTAMP:20260421T072939
CREATED:20170310T102130Z
LAST-MODIFIED:20170310T102130Z
UID:1097-1515974400-1515974400@slotcoordination.nl
SUMMARY:Slot Return Deadline (SRD) S18
DESCRIPTION:
URL:https://slotcoordination.nl/event/slot-return-deadline-srd-s18/
END:VEVENT
BEGIN:VEVENT
DTSTART;TZID=Europe/Amsterdam:20180110T140000
DTEND;TZID=Europe/Amsterdam:20180110T160000
DTSTAMP:20260421T072939
CREATED:20171220T090220Z
LAST-MODIFIED:20171220T090220Z
UID:2169-1515592800-1515600000@slotcoordination.nl
SUMMARY:Telephone Consultation
DESCRIPTION:
URL:https://slotcoordination.nl/event/telephone-consultation-25/
END:VEVENT
BEGIN:VEVENT
DTSTART;TZID=Europe/Amsterdam:20180103T140000
DTEND;TZID=Europe/Amsterdam:20180103T160000
DTSTAMP:20260421T072939
CREATED:20171220T090143Z
LAST-MODIFIED:20171220T090143Z
UID:2165-1514988000-1514995200@slotcoordination.nl
SUMMARY:Telephone Consultation
DESCRIPTION:
URL:https://slotcoordination.nl/event/telephone-consultation-24/
END:VEVENT
BEGIN:VEVENT
DTSTART;TZID=Europe/Amsterdam:20171227T140000
DTEND;TZID=Europe/Amsterdam:20171227T160000
DTSTAMP:20260421T072939
CREATED:20171220T090026Z
LAST-MODIFIED:20171220T090037Z
UID:2157-1514383200-1514390400@slotcoordination.nl
SUMMARY:Telephone Consultation
DESCRIPTION:
URL:https://slotcoordination.nl/event/telephone-consultation-22/
END:VEVENT
BEGIN:VEVENT
DTSTART;TZID=Europe/Amsterdam:20171220T140000
DTEND;TZID=Europe/Amsterdam:20171220T160000
DTSTAMP:20260421T072939
CREATED:20171220T085848Z
LAST-MODIFIED:20171220T085953Z
UID:2153-1513778400-1513785600@slotcoordination.nl
SUMMARY:Telephone Consultation
DESCRIPTION:
URL:https://slotcoordination.nl/event/telephone-consultation-20-copy/
END:VEVENT
BEGIN:VEVENT
DTSTART;TZID=Europe/Amsterdam:20171213T140000
DTEND;TZID=Europe/Amsterdam:20171213T160000
DTSTAMP:20260421T072939
CREATED:20171030T105134Z
LAST-MODIFIED:20171030T105134Z
UID:2119-1513173600-1513180800@slotcoordination.nl
SUMMARY:Telephone Consultation
DESCRIPTION:
URL:https://slotcoordination.nl/event/telephone-consultation-21/
END:VEVENT
BEGIN:VEVENT
DTSTART;TZID=Europe/Amsterdam:20171206T140000
DTEND;TZID=Europe/Amsterdam:20171206T160000
DTSTAMP:20260421T072939
CREATED:20171030T105108Z
LAST-MODIFIED:20171030T105108Z
UID:2115-1512568800-1512576000@slotcoordination.nl
SUMMARY:Telephone Consultation
DESCRIPTION:
URL:https://slotcoordination.nl/event/telephone-consultation-20/
END:VEVENT
BEGIN:VEVENT
DTSTART;TZID=Europe/Amsterdam:20171129T140000
DTEND;TZID=Europe/Amsterdam:20171129T160000
DTSTAMP:20260421T072939
CREATED:20171030T105021Z
LAST-MODIFIED:20171030T105021Z
UID:2111-1511964000-1511971200@slotcoordination.nl
SUMMARY:Telephone Consultation
DESCRIPTION:
URL:https://slotcoordination.nl/event/telephone-consultation-19/
END:VEVENT
BEGIN:VEVENT
DTSTART;TZID=Europe/Amsterdam:20171122T140000
DTEND;TZID=Europe/Amsterdam:20171122T160000
DTSTAMP:20260421T072939
CREATED:20171030T104915Z
LAST-MODIFIED:20171030T104915Z
UID:2107-1511359200-1511366400@slotcoordination.nl
SUMMARY:Telephone Consultation
DESCRIPTION:
URL:https://slotcoordination.nl/event/telephone-consultation-18/
END:VEVENT
BEGIN:VEVENT
DTSTART;TZID=Europe/Amsterdam:20171115T140000
DTEND;TZID=Europe/Amsterdam:20171115T160000
DTSTAMP:20260421T072939
CREATED:20170927T135714Z
LAST-MODIFIED:20170927T135714Z
UID:2005-1510754400-1510761600@slotcoordination.nl
SUMMARY:Telephone Consultation
DESCRIPTION:
URL:https://slotcoordination.nl/event/telephone-consultation-17/
END:VEVENT
BEGIN:VEVENT
DTSTART;VALUE=DATE:20171109
DTEND;VALUE=DATE:20171111
DTSTAMP:20260421T072939
CREATED:20171031T150913Z
LAST-MODIFIED:20171031T150913Z
UID:2123-1510185600-1510358399@slotcoordination.nl
SUMMARY:Office closed due to Slot Conference
DESCRIPTION:
URL:https://slotcoordination.nl/event/office-closed-due-slot-conference/
END:VEVENT
BEGIN:VEVENT
DTSTART;TZID=Europe/Amsterdam:20171108T140000
DTEND;TZID=Europe/Amsterdam:20171108T160000
DTSTAMP:20260421T072939
CREATED:20170927T135636Z
LAST-MODIFIED:20170927T135636Z
UID:2001-1510149600-1510156800@slotcoordination.nl
SUMMARY:No Telephone Consultation due to IATA Slot Conference
DESCRIPTION:
URL:https://slotcoordination.nl/event/no-telephone-consultation-due-iata-slot-conference/
END:VEVENT
BEGIN:VEVENT
DTSTART;VALUE=DATE:20171107
DTEND;VALUE=DATE:20171111
DTSTAMP:20260421T072939
CREATED:20170310T102102Z
LAST-MODIFIED:20170502T092547Z
UID:1095-1510012800-1510358399@slotcoordination.nl
SUMMARY:IATA Slot Conference S18
DESCRIPTION:
URL:https://slotcoordination.nl/event/iata-slot-conference-s18/
END:VEVENT
BEGIN:VEVENT
DTSTART;TZID=Europe/Amsterdam:20171101T140000
DTEND;TZID=Europe/Amsterdam:20171101T160000
DTSTAMP:20260421T072939
CREATED:20170927T135537Z
LAST-MODIFIED:20170927T135537Z
UID:1997-1509544800-1509552000@slotcoordination.nl
SUMMARY:Telephone Consultation
DESCRIPTION:
URL:https://slotcoordination.nl/event/telephone-consultation-16/
END:VEVENT
END:VCALENDAR