BEGIN:VCALENDAR
VERSION:2.0
PRODID:-//Airport Coordination Netherlands - ECPv6.15.18//NONSGML v1.0//EN
CALSCALE:GREGORIAN
METHOD:PUBLISH
X-WR-CALNAME:Airport Coordination Netherlands
X-ORIGINAL-URL:https://slotcoordination.nl
X-WR-CALDESC:Events for Airport Coordination Netherlands
REFRESH-INTERVAL;VALUE=DURATION:PT1H
X-Robots-Tag:noindex
X-PUBLISHED-TTL:PT1H
BEGIN:VTIMEZONE
TZID:Europe/Amsterdam
BEGIN:DAYLIGHT
TZOFFSETFROM:+0100
TZOFFSETTO:+0200
TZNAME:CEST
DTSTART:20180325T010000
END:DAYLIGHT
BEGIN:STANDARD
TZOFFSETFROM:+0200
TZOFFSETTO:+0100
TZNAME:CET
DTSTART:20181028T010000
END:STANDARD
BEGIN:DAYLIGHT
TZOFFSETFROM:+0100
TZOFFSETTO:+0200
TZNAME:CEST
DTSTART:20190331T010000
END:DAYLIGHT
BEGIN:STANDARD
TZOFFSETFROM:+0200
TZOFFSETTO:+0100
TZNAME:CET
DTSTART:20191027T010000
END:STANDARD
BEGIN:DAYLIGHT
TZOFFSETFROM:+0100
TZOFFSETTO:+0200
TZNAME:CEST
DTSTART:20200329T010000
END:DAYLIGHT
BEGIN:STANDARD
TZOFFSETFROM:+0200
TZOFFSETTO:+0100
TZNAME:CET
DTSTART:20201025T010000
END:STANDARD
END:VTIMEZONE
BEGIN:VEVENT
DTSTART;VALUE=DATE:20190606
DTEND;VALUE=DATE:20190607
DTSTAMP:20260420T173618
CREATED:20190510T140300Z
LAST-MODIFIED:20190510T140633Z
UID:3543-1559779200-1559865599@slotcoordination.nl
SUMMARY:SAL Deadline W19
DESCRIPTION:
URL:https://slotcoordination.nl/event/sal-deadline-s19-copy/
END:VEVENT
BEGIN:VEVENT
DTSTART;TZID=Europe/Amsterdam:20190605T140000
DTEND;TZID=Europe/Amsterdam:20190605T160000
DTSTAMP:20260420T173618
CREATED:20190510T135241Z
LAST-MODIFIED:20190510T135241Z
UID:3453-1559743200-1559750400@slotcoordination.nl
SUMMARY:Telephone Consultation 14:00 to 16:00 LT AMS
DESCRIPTION:
URL:https://slotcoordination.nl/event/telephone-consultation-1400-to-1600-lt-ams-16/
END:VEVENT
BEGIN:VEVENT
DTSTART;TZID=Europe/Amsterdam:20190604T080000
DTEND;TZID=Europe/Amsterdam:20190604T170000
DTSTAMP:20260420T173618
CREATED:20190510T141050Z
LAST-MODIFIED:20190510T141050Z
UID:3561-1559635200-1559667600@slotcoordination.nl
SUMMARY:Appointments Calendar opened to Coordinators W19
DESCRIPTION:
URL:https://slotcoordination.nl/event/appointments-calendar-opened-to-coordinators-w19/
END:VEVENT
BEGIN:VEVENT
DTSTART;TZID=Europe/Amsterdam:20190529T140000
DTEND;TZID=Europe/Amsterdam:20190529T160000
DTSTAMP:20260420T173618
CREATED:20190510T135012Z
LAST-MODIFIED:20190510T135012Z
UID:3447-1559138400-1559145600@slotcoordination.nl
SUMMARY:Telephone Consultation 14:00 to 16:00 LT AMS
DESCRIPTION:
URL:https://slotcoordination.nl/event/telephone-consultation-1400-to-1600-lt-ams-15/
END:VEVENT
BEGIN:VEVENT
DTSTART;TZID=Europe/Amsterdam:20190522T140000
DTEND;TZID=Europe/Amsterdam:20190522T160000
DTSTAMP:20260420T173618
CREATED:20190510T134750Z
LAST-MODIFIED:20190510T134750Z
UID:3443-1558533600-1558540800@slotcoordination.nl
SUMMARY:Telephone Consultation 14:00 to 16:00 LT AMS
DESCRIPTION:
URL:https://slotcoordination.nl/event/telephone-consultation-1400-to-1600-lt-ams-14/
END:VEVENT
BEGIN:VEVENT
DTSTART;TZID=Europe/Amsterdam:20190516T080000
DTEND;TZID=Europe/Amsterdam:20190516T170000
DTSTAMP:20260420T173618
CREATED:20190510T141532Z
LAST-MODIFIED:20190510T141532Z
UID:3565-1557993600-1558026000@slotcoordination.nl
SUMMARY:Initial Submission Deadline W19
DESCRIPTION:
URL:https://slotcoordination.nl/event/initial-submission-deadline-w19/
END:VEVENT
BEGIN:VEVENT
DTSTART;TZID=Europe/Amsterdam:20190515T140000
DTEND;TZID=Europe/Amsterdam:20190515T160000
DTSTAMP:20260420T173618
CREATED:20190510T134648Z
LAST-MODIFIED:20190510T134904Z
UID:3437-1557928800-1557936000@slotcoordination.nl
SUMMARY:Telephone Consultation 14:00 to 16:00 LT AMS
DESCRIPTION:
URL:https://slotcoordination.nl/event/telephone-consultation-1400-to-1600-lt-ams-13/
END:VEVENT
BEGIN:VEVENT
DTSTART;TZID=Europe/Amsterdam:20190509T080000
DTEND;TZID=Europe/Amsterdam:20190509T170000
DTSTAMP:20260420T173618
CREATED:20190510T141709Z
LAST-MODIFIED:20190510T141709Z
UID:3573-1557388800-1557421200@slotcoordination.nl
SUMMARY:Agreed Historics Deadline W19
DESCRIPTION:
URL:https://slotcoordination.nl/event/agreed-historics-deadline-w19/
END:VEVENT
BEGIN:VEVENT
DTSTART;TZID=Europe/Amsterdam:20190508T140000
DTEND;TZID=Europe/Amsterdam:20190508T160000
DTSTAMP:20260420T173618
CREATED:20190510T134330Z
LAST-MODIFIED:20190510T134330Z
UID:3433-1557324000-1557331200@slotcoordination.nl
SUMMARY:Telephone Consultation 14:00 to 16:00 LT AMS
DESCRIPTION:
URL:https://slotcoordination.nl/event/telephone-consultation-1400-to-1600-lt-ams-12/
END:VEVENT
BEGIN:VEVENT
DTSTART;TZID=Europe/Amsterdam:20190501T080000
DTEND;TZID=Europe/Amsterdam:20190501T170000
DTSTAMP:20260420T173618
CREATED:20190510T142457Z
LAST-MODIFIED:20190510T142457Z
UID:3603-1556697600-1556730000@slotcoordination.nl
SUMMARY:Telephone Consultation 14:00 to 16:00 LT AMS
DESCRIPTION:
URL:https://slotcoordination.nl/event/telephone-consultation-1400-to-1600-lt-ams-37/
END:VEVENT
BEGIN:VEVENT
DTSTART;TZID=Europe/Amsterdam:20190424T080000
DTEND;TZID=Europe/Amsterdam:20190424T170000
DTSTAMP:20260420T173618
CREATED:20190510T142651Z
LAST-MODIFIED:20190510T142651Z
UID:3607-1556092800-1556125200@slotcoordination.nl
SUMMARY:Telephone Consultation 14:00 to 16:00 LT AMS
DESCRIPTION:
URL:https://slotcoordination.nl/event/telephone-consultation-1400-to-1600-lt-ams-38/
END:VEVENT
BEGIN:VEVENT
DTSTART;TZID=Europe/Amsterdam:20190422T080000
DTEND;TZID=Europe/Amsterdam:20190422T170000
DTSTAMP:20260420T173618
CREATED:20190510T141628Z
LAST-MODIFIED:20190510T141628Z
UID:3569-1555920000-1555952400@slotcoordination.nl
SUMMARY:SHL Deadline W19
DESCRIPTION:
URL:https://slotcoordination.nl/event/shl-deadline-w19/
END:VEVENT
BEGIN:VEVENT
DTSTART;TZID=Europe/Amsterdam:20190417T080000
DTEND;TZID=Europe/Amsterdam:20190417T170000
DTSTAMP:20260420T173618
CREATED:20190510T142726Z
LAST-MODIFIED:20190510T142726Z
UID:3611-1555488000-1555520400@slotcoordination.nl
SUMMARY:Telephone Consultation 14:00 to 16:00 LT AMS
DESCRIPTION:
URL:https://slotcoordination.nl/event/telephone-consultation-1400-to-1600-lt-ams-39/
END:VEVENT
BEGIN:VEVENT
DTSTART;TZID=Europe/Amsterdam:20190410T080000
DTEND;TZID=Europe/Amsterdam:20190410T170000
DTSTAMP:20260420T173618
CREATED:20190510T142802Z
LAST-MODIFIED:20190510T142802Z
UID:3615-1554883200-1554915600@slotcoordination.nl
SUMMARY:Telephone Consultation 14:00 to 16:00 LT AMS
DESCRIPTION:
URL:https://slotcoordination.nl/event/telephone-consultation-1400-to-1600-lt-ams-40/
END:VEVENT
BEGIN:VEVENT
DTSTART;TZID=Europe/Amsterdam:20190403T080000
DTEND;TZID=Europe/Amsterdam:20190403T170000
DTSTAMP:20260420T173618
CREATED:20190510T142823Z
LAST-MODIFIED:20190510T142823Z
UID:3619-1554278400-1554310800@slotcoordination.nl
SUMMARY:Telephone Consultation 14:00 to 16:00 LT AMS
DESCRIPTION:
URL:https://slotcoordination.nl/event/telephone-consultation-1400-to-1600-lt-ams-41/
END:VEVENT
BEGIN:VEVENT
DTSTART;VALUE=DATE:20190331
DTEND;VALUE=DATE:20190401
DTSTAMP:20260420T173618
CREATED:20181130T133752Z
LAST-MODIFIED:20181130T133752Z
UID:3241-1553990400-1554076799@slotcoordination.nl
SUMMARY:Start of Season S19
DESCRIPTION:
URL:https://slotcoordination.nl/event/start-of-season-s19/
END:VEVENT
BEGIN:VEVENT
DTSTART;VALUE=DATE:20190327
DTEND;VALUE=DATE:20190328
DTSTAMP:20260420T173618
CREATED:20181130T133557Z
LAST-MODIFIED:20181130T133557Z
UID:3237-1553644800-1553731199@slotcoordination.nl
SUMMARY:Telephone Consultation 14:00 to 16:00 LT AMS
DESCRIPTION:
URL:https://slotcoordination.nl/event/telephone-consultation-1400-to-1600-lt-ams-11/
END:VEVENT
BEGIN:VEVENT
DTSTART;VALUE=DATE:20190320
DTEND;VALUE=DATE:20190321
DTSTAMP:20260420T173618
CREATED:20181130T133429Z
LAST-MODIFIED:20181130T133441Z
UID:3231-1553040000-1553126399@slotcoordination.nl
SUMMARY:Telephone Consultation 14:00 to 16:00 LT AMS
DESCRIPTION:
URL:https://slotcoordination.nl/event/telephone-consultation-1400-to-1600-lt-amstelephone-consultation-1400-to-1600-lt-ams/
END:VEVENT
BEGIN:VEVENT
DTSTART;VALUE=DATE:20190313
DTEND;VALUE=DATE:20190314
DTSTAMP:20260420T173618
CREATED:20181130T133339Z
LAST-MODIFIED:20181130T133339Z
UID:3227-1552435200-1552521599@slotcoordination.nl
SUMMARY:Telephone Consultation 14:00 to 16:00 LT AMS
DESCRIPTION:
URL:https://slotcoordination.nl/event/telephone-consultation-1400-to-1600-lt-ams-10/
END:VEVENT
BEGIN:VEVENT
DTSTART;VALUE=DATE:20190306
DTEND;VALUE=DATE:20190307
DTSTAMP:20260420T173618
CREATED:20181130T133310Z
LAST-MODIFIED:20181130T133310Z
UID:3223-1551830400-1551916799@slotcoordination.nl
SUMMARY:Telephone Consultation 14:00 to 16:00 LT AMS
DESCRIPTION:
URL:https://slotcoordination.nl/event/telephone-consultation-1400-to-1600-lt-ams-9/
END:VEVENT
BEGIN:VEVENT
DTSTART;VALUE=DATE:20190227
DTEND;VALUE=DATE:20190228
DTSTAMP:20260420T173618
CREATED:20181130T132743Z
LAST-MODIFIED:20181130T132743Z
UID:3209-1551225600-1551311999@slotcoordination.nl
SUMMARY:Telephone Consultation 14:00 to 16:00 LT AMS
DESCRIPTION:
URL:https://slotcoordination.nl/event/telephone-consultation-1400-to-1600-lt-ams-8/
END:VEVENT
BEGIN:VEVENT
DTSTART;VALUE=DATE:20190220
DTEND;VALUE=DATE:20190221
DTSTAMP:20260420T173618
CREATED:20181130T132648Z
LAST-MODIFIED:20181130T132648Z
UID:3205-1550620800-1550707199@slotcoordination.nl
SUMMARY:Telephone Consultation 14:00 to 16:00 LT AMS
DESCRIPTION:
URL:https://slotcoordination.nl/event/telephone-consultation-1400-to-1600-lt-ams-7/
END:VEVENT
BEGIN:VEVENT
DTSTART;VALUE=DATE:20190213
DTEND;VALUE=DATE:20190214
DTSTAMP:20260420T173618
CREATED:20181130T132555Z
LAST-MODIFIED:20181130T132555Z
UID:3201-1550016000-1550102399@slotcoordination.nl
SUMMARY:Telephone Consultation 14:00 to 16:00 LT AMS
DESCRIPTION:
URL:https://slotcoordination.nl/event/telephone-consultation-1400-to-1600-lt-ams-6/
END:VEVENT
BEGIN:VEVENT
DTSTART;VALUE=DATE:20190206
DTEND;VALUE=DATE:20190207
DTSTAMP:20260420T173618
CREATED:20181130T132500Z
LAST-MODIFIED:20181130T132500Z
UID:3197-1549411200-1549497599@slotcoordination.nl
SUMMARY:Telephone Consultation 14:00 to 16:00 LT AMS
DESCRIPTION:
URL:https://slotcoordination.nl/event/telephone-consultation-1400-to-1600-lt-ams-5/
END:VEVENT
BEGIN:VEVENT
DTSTART;VALUE=DATE:20190131
DTEND;VALUE=DATE:20190201
DTSTAMP:20260420T173618
CREATED:20181130T132844Z
LAST-MODIFIED:20181130T132844Z
UID:3213-1548892800-1548979199@slotcoordination.nl
SUMMARY:Historic Baseline Date S19
DESCRIPTION:
URL:https://slotcoordination.nl/event/historic-baseline-date-s19/
END:VEVENT
BEGIN:VEVENT
DTSTART;VALUE=DATE:20190130
DTEND;VALUE=DATE:20190131
DTSTAMP:20260420T173618
CREATED:20181130T132347Z
LAST-MODIFIED:20181130T132418Z
UID:3193-1548806400-1548892799@slotcoordination.nl
SUMMARY:Telephone Consultation 14:00 to 16:00 LT AMS
DESCRIPTION:
URL:https://slotcoordination.nl/event/telephone-consultation-1400-to-1600-lt-ams-4/
END:VEVENT
BEGIN:VEVENT
DTSTART;VALUE=DATE:20190123
DTEND;VALUE=DATE:20190124
DTSTAMP:20260420T173618
CREATED:20181130T132225Z
LAST-MODIFIED:20181130T132225Z
UID:3189-1548201600-1548287999@slotcoordination.nl
SUMMARY:Telephone Consultation 14:00 to 16:00 LT AMS
DESCRIPTION:
URL:https://slotcoordination.nl/event/telephone-consultation-1400-to-1600-lt-ams-3/
END:VEVENT
BEGIN:VEVENT
DTSTART;VALUE=DATE:20190116
DTEND;VALUE=DATE:20190117
DTSTAMP:20260420T173618
CREATED:20181130T132201Z
LAST-MODIFIED:20181130T132201Z
UID:3185-1547596800-1547683199@slotcoordination.nl
SUMMARY:Telephone Consultation 14:00 to 16:00 LT AMS
DESCRIPTION:
URL:https://slotcoordination.nl/event/telephone-consultation-1400-to-1600-lt-ams-2/
END:VEVENT
BEGIN:VEVENT
DTSTART;VALUE=DATE:20190115
DTEND;VALUE=DATE:20190116
DTSTAMP:20260420T173618
CREATED:20181130T133012Z
LAST-MODIFIED:20181130T133012Z
UID:3219-1547510400-1547596799@slotcoordination.nl
SUMMARY:Slot Return Deadline S19
DESCRIPTION:
URL:https://slotcoordination.nl/event/slot-return-deadline-s19/
END:VEVENT
BEGIN:VEVENT
DTSTART;VALUE=DATE:20190109
DTEND;VALUE=DATE:20190110
DTSTAMP:20260420T173618
CREATED:20181130T132055Z
LAST-MODIFIED:20181130T132114Z
UID:3181-1546992000-1547078399@slotcoordination.nl
SUMMARY:Telephone Consultation 14:00 to 16:00 LT AMS
DESCRIPTION:
URL:https://slotcoordination.nl/event/telephone-consultation-1400-to-1600-lt-ams/
END:VEVENT
END:VCALENDAR