BEGIN:VCALENDAR
VERSION:2.0
PRODID:-//Airport Coordination Netherlands - ECPv6.15.18//NONSGML v1.0//EN
CALSCALE:GREGORIAN
METHOD:PUBLISH
X-WR-CALNAME:Airport Coordination Netherlands
X-ORIGINAL-URL:https://slotcoordination.nl
X-WR-CALDESC:Events for Airport Coordination Netherlands
REFRESH-INTERVAL;VALUE=DURATION:PT1H
X-Robots-Tag:noindex
X-PUBLISHED-TTL:PT1H
BEGIN:VTIMEZONE
TZID:Europe/Amsterdam
BEGIN:DAYLIGHT
TZOFFSETFROM:+0100
TZOFFSETTO:+0200
TZNAME:CEST
DTSTART:20170326T010000
END:DAYLIGHT
BEGIN:STANDARD
TZOFFSETFROM:+0200
TZOFFSETTO:+0100
TZNAME:CET
DTSTART:20171029T010000
END:STANDARD
BEGIN:DAYLIGHT
TZOFFSETFROM:+0100
TZOFFSETTO:+0200
TZNAME:CEST
DTSTART:20180325T010000
END:DAYLIGHT
BEGIN:STANDARD
TZOFFSETFROM:+0200
TZOFFSETTO:+0100
TZNAME:CET
DTSTART:20181028T010000
END:STANDARD
BEGIN:DAYLIGHT
TZOFFSETFROM:+0100
TZOFFSETTO:+0200
TZNAME:CEST
DTSTART:20190331T010000
END:DAYLIGHT
BEGIN:STANDARD
TZOFFSETFROM:+0200
TZOFFSETTO:+0100
TZNAME:CET
DTSTART:20191027T010000
END:STANDARD
END:VTIMEZONE
BEGIN:VEVENT
DTSTART;TZID=Europe/Amsterdam:20180905T140000
DTEND;TZID=Europe/Amsterdam:20180905T160000
DTSTAMP:20260421T065104
CREATED:20180724T095357Z
LAST-MODIFIED:20180724T095357Z
UID:2883-1536156000-1536163200@slotcoordination.nl
SUMMARY:Telephone Consultation
DESCRIPTION:
URL:https://slotcoordination.nl/event/telephone-consultation-56/
END:VEVENT
BEGIN:VEVENT
DTSTART;VALUE=DATE:20180831
DTEND;VALUE=DATE:20180901
DTSTAMP:20260421T065104
CREATED:20180313T162350Z
LAST-MODIFIED:20180313T162350Z
UID:2401-1535673600-1535759999@slotcoordination.nl
SUMMARY:Historic Baseline Date W18
DESCRIPTION:
URL:https://slotcoordination.nl/event/historic-baseline-date-w18/
END:VEVENT
BEGIN:VEVENT
DTSTART;TZID=Europe/Amsterdam:20180829T140000
DTEND;TZID=Europe/Amsterdam:20180829T160000
DTSTAMP:20260421T065104
CREATED:20180724T095318Z
LAST-MODIFIED:20180724T095318Z
UID:2879-1535551200-1535558400@slotcoordination.nl
SUMMARY:Telephone Consultation
DESCRIPTION:
URL:https://slotcoordination.nl/event/telephone-consultation-55/
END:VEVENT
BEGIN:VEVENT
DTSTART;TZID=Europe/Amsterdam:20180822T140000
DTEND;TZID=Europe/Amsterdam:20180822T160000
DTSTAMP:20260421T065104
CREATED:20180724T095247Z
LAST-MODIFIED:20180724T095247Z
UID:2875-1534946400-1534953600@slotcoordination.nl
SUMMARY:Telephone Consultation
DESCRIPTION:
URL:https://slotcoordination.nl/event/telephone-consultation-54/
END:VEVENT
BEGIN:VEVENT
DTSTART;TZID=Europe/Amsterdam:20180815T140000
DTEND;TZID=Europe/Amsterdam:20180815T160000
DTSTAMP:20260421T065104
CREATED:20180724T095158Z
LAST-MODIFIED:20180724T095158Z
UID:2871-1534341600-1534348800@slotcoordination.nl
SUMMARY:Telephone Consultation
DESCRIPTION:
URL:https://slotcoordination.nl/event/telephone-consultation-53/
END:VEVENT
BEGIN:VEVENT
DTSTART;VALUE=DATE:20180815
DTEND;VALUE=DATE:20180816
DTSTAMP:20260421T065104
CREATED:20180313T162247Z
LAST-MODIFIED:20180313T162247Z
UID:2397-1534291200-1534377599@slotcoordination.nl
SUMMARY:Slot return Deadline W18
DESCRIPTION:
URL:https://slotcoordination.nl/event/slot-return-deadline-w18/
END:VEVENT
BEGIN:VEVENT
DTSTART;TZID=Europe/Amsterdam:20180808T140000
DTEND;TZID=Europe/Amsterdam:20180808T160000
DTSTAMP:20260421T065104
CREATED:20180724T095052Z
LAST-MODIFIED:20180724T095052Z
UID:2867-1533736800-1533744000@slotcoordination.nl
SUMMARY:Telephone Consultation
DESCRIPTION:
URL:https://slotcoordination.nl/event/telephone-consultation-52/
END:VEVENT
BEGIN:VEVENT
DTSTART;TZID=Europe/Amsterdam:20180801T140000
DTEND;TZID=Europe/Amsterdam:20180801T160000
DTSTAMP:20260421T065104
CREATED:20180724T095017Z
LAST-MODIFIED:20180724T095017Z
UID:2863-1533132000-1533139200@slotcoordination.nl
SUMMARY:Telephone Consultation
DESCRIPTION:
URL:https://slotcoordination.nl/event/telephone-consultation-51/
END:VEVENT
BEGIN:VEVENT
DTSTART;TZID=Europe/Amsterdam:20180725T140000
DTEND;TZID=Europe/Amsterdam:20180725T160000
DTSTAMP:20260421T065104
CREATED:20180724T094939Z
LAST-MODIFIED:20180724T094939Z
UID:2859-1532527200-1532534400@slotcoordination.nl
SUMMARY:Telephone Consultation
DESCRIPTION:
URL:https://slotcoordination.nl/event/telephone-consultation-50/
END:VEVENT
BEGIN:VEVENT
DTSTART;TZID=Europe/Amsterdam:20180718T140000
DTEND;TZID=Europe/Amsterdam:20180718T160000
DTSTAMP:20260421T065104
CREATED:20180724T094910Z
LAST-MODIFIED:20180724T094910Z
UID:2853-1531922400-1531929600@slotcoordination.nl
SUMMARY:Telephone Consultation
DESCRIPTION:
URL:https://slotcoordination.nl/event/telephone-consultation-49/
END:VEVENT
BEGIN:VEVENT
DTSTART;TZID=Europe/Amsterdam:20180711T140000
DTEND;TZID=Europe/Amsterdam:20180711T160000
DTSTAMP:20260421T065104
CREATED:20180724T094839Z
LAST-MODIFIED:20180724T094839Z
UID:2849-1531317600-1531324800@slotcoordination.nl
SUMMARY:Telephone Consultation
DESCRIPTION:
URL:https://slotcoordination.nl/event/telephone-consultation-48/
END:VEVENT
BEGIN:VEVENT
DTSTART;TZID=Europe/Amsterdam:20180704T140000
DTEND;TZID=Europe/Amsterdam:20180704T160000
DTSTAMP:20260421T065104
CREATED:20180724T094758Z
LAST-MODIFIED:20180724T094758Z
UID:2845-1530712800-1530720000@slotcoordination.nl
SUMMARY:Telephone Consultation
DESCRIPTION:
URL:https://slotcoordination.nl/event/telephone-consultation-47/
END:VEVENT
BEGIN:VEVENT
DTSTART;TZID=Europe/Amsterdam:20180627T140000
DTEND;TZID=Europe/Amsterdam:20180627T160000
DTSTAMP:20260421T065104
CREATED:20180724T094609Z
LAST-MODIFIED:20180724T094702Z
UID:2841-1530108000-1530115200@slotcoordination.nl
SUMMARY:Telephone Consultation
DESCRIPTION:
URL:https://slotcoordination.nl/event/telephone-consultation-43-copy/
END:VEVENT
BEGIN:VEVENT
DTSTART;TZID=Europe/Amsterdam:20180620T140000
DTEND;TZID=Europe/Amsterdam:20180620T160000
DTSTAMP:20260421T065104
CREATED:20180313T161456Z
LAST-MODIFIED:20180313T161706Z
UID:2369-1529503200-1529510400@slotcoordination.nl
SUMMARY:No Telephone Consultation due to IATA Slot Conference
DESCRIPTION:
URL:https://slotcoordination.nl/event/no-telephone-consultation-2/
END:VEVENT
BEGIN:VEVENT
DTSTART;VALUE=DATE:20180619
DTEND;VALUE=DATE:20180622
DTSTAMP:20260421T065104
CREATED:20180313T162133Z
LAST-MODIFIED:20180313T162133Z
UID:2393-1529366400-1529625599@slotcoordination.nl
SUMMARY:IATA Slot Conference W18
DESCRIPTION:
URL:https://slotcoordination.nl/event/iata-slot-conference-w18/
END:VEVENT
BEGIN:VEVENT
DTSTART;TZID=Europe/Amsterdam:20180613T140000
DTEND;TZID=Europe/Amsterdam:20180613T160000
DTSTAMP:20260421T065104
CREATED:20180313T161420Z
LAST-MODIFIED:20180313T161420Z
UID:2365-1528898400-1528905600@slotcoordination.nl
SUMMARY:Telephone Consultation
DESCRIPTION:
URL:https://slotcoordination.nl/event/telephone-consultation-46/
END:VEVENT
BEGIN:VEVENT
DTSTART;VALUE=DATE:20180611
DTEND;VALUE=DATE:20180612
DTSTAMP:20260421T065104
CREATED:20180528T110956Z
LAST-MODIFIED:20180528T111104Z
UID:2727-1528675200-1528761599@slotcoordination.nl
SUMMARY:Appointments calendar opened to operators W18
DESCRIPTION:
URL:https://slotcoordination.nl/event/appointments-calendar-opened-to-operators-w17/
END:VEVENT
BEGIN:VEVENT
DTSTART;VALUE=DATE:20180607
DTEND;VALUE=DATE:20180608
DTSTAMP:20260421T065104
CREATED:20180313T161606Z
LAST-MODIFIED:20180313T161639Z
UID:2373-1528329600-1528415999@slotcoordination.nl
SUMMARY:SAL Deadline W18
DESCRIPTION:
URL:https://slotcoordination.nl/event/sal-deadline-s17-copy-copy/
END:VEVENT
BEGIN:VEVENT
DTSTART;TZID=Europe/Amsterdam:20180606T140000
DTEND;TZID=Europe/Amsterdam:20180606T160000
DTSTAMP:20260421T065104
CREATED:20180313T161345Z
LAST-MODIFIED:20180313T161345Z
UID:2361-1528293600-1528300800@slotcoordination.nl
SUMMARY:Telephone Consultation
DESCRIPTION:
URL:https://slotcoordination.nl/event/telephone-consultation-45/
END:VEVENT
BEGIN:VEVENT
DTSTART;VALUE=DATE:20180605
DTEND;VALUE=DATE:20180606
DTSTAMP:20260421T065104
CREATED:20180528T111021Z
LAST-MODIFIED:20180528T111021Z
UID:2731-1528156800-1528243199@slotcoordination.nl
SUMMARY:Appointments Calendar opened to Coordinators W18
DESCRIPTION:
URL:https://slotcoordination.nl/event/appointments-calendar-opened-to-coordinators-w18/
END:VEVENT
BEGIN:VEVENT
DTSTART;TZID=Europe/Amsterdam:20180530T140000
DTEND;TZID=Europe/Amsterdam:20180530T160000
DTSTAMP:20260421T065104
CREATED:20180313T161318Z
LAST-MODIFIED:20180313T161318Z
UID:2357-1527688800-1527696000@slotcoordination.nl
SUMMARY:Telephone Consultation
DESCRIPTION:
URL:https://slotcoordination.nl/event/telephone-consultation-44/
END:VEVENT
BEGIN:VEVENT
DTSTART;TZID=Europe/Amsterdam:20180523T140000
DTEND;TZID=Europe/Amsterdam:20180523T160000
DTSTAMP:20260421T065104
CREATED:20180313T161258Z
LAST-MODIFIED:20180313T161258Z
UID:2351-1527084000-1527091200@slotcoordination.nl
SUMMARY:Telephone Consultation
DESCRIPTION:
URL:https://slotcoordination.nl/event/telephone-consultation-43/
END:VEVENT
BEGIN:VEVENT
DTSTART;VALUE=DATE:20180517
DTEND;VALUE=DATE:20180518
DTSTAMP:20260421T065104
CREATED:20180313T161913Z
LAST-MODIFIED:20180313T161913Z
UID:2387-1526515200-1526601599@slotcoordination.nl
SUMMARY:Initial Submission Deadline W18
DESCRIPTION:
URL:https://slotcoordination.nl/event/initial-submission-deadline-w18/
END:VEVENT
BEGIN:VEVENT
DTSTART;TZID=Europe/Amsterdam:20180516T140000
DTEND;TZID=Europe/Amsterdam:20180516T160000
DTSTAMP:20260421T065104
CREATED:20180313T161236Z
LAST-MODIFIED:20180313T161236Z
UID:2347-1526479200-1526486400@slotcoordination.nl
SUMMARY:Telephone Consultation
DESCRIPTION:
URL:https://slotcoordination.nl/event/telephone-consultation-42/
END:VEVENT
BEGIN:VEVENT
DTSTART;VALUE=DATE:20180510
DTEND;VALUE=DATE:20180511
DTSTAMP:20260421T065104
CREATED:20180313T161824Z
LAST-MODIFIED:20180313T161937Z
UID:2383-1525910400-1525996799@slotcoordination.nl
SUMMARY:Agreed Historics Deadline W18
DESCRIPTION:
URL:https://slotcoordination.nl/event/agreed-historics-deadline-s18/
END:VEVENT
BEGIN:VEVENT
DTSTART;TZID=Europe/Amsterdam:20180509T140000
DTEND;TZID=Europe/Amsterdam:20180509T160000
DTSTAMP:20260421T065104
CREATED:20180313T161214Z
LAST-MODIFIED:20180313T161214Z
UID:2343-1525874400-1525881600@slotcoordination.nl
SUMMARY:Telephone Consultation
DESCRIPTION:
URL:https://slotcoordination.nl/event/telephone-consultation-41/
END:VEVENT
BEGIN:VEVENT
DTSTART;TZID=Europe/Amsterdam:20180502T140000
DTEND;TZID=Europe/Amsterdam:20180502T160000
DTSTAMP:20260421T065104
CREATED:20180313T161102Z
LAST-MODIFIED:20180313T161102Z
UID:2339-1525269600-1525276800@slotcoordination.nl
SUMMARY:Telephone Consultation
DESCRIPTION:
URL:https://slotcoordination.nl/event/telephone-consultation-40/
END:VEVENT
BEGIN:VEVENT
DTSTART;TZID=Europe/Amsterdam:20180425T140000
DTEND;TZID=Europe/Amsterdam:20180425T160000
DTSTAMP:20260421T065104
CREATED:20180313T161036Z
LAST-MODIFIED:20180313T161036Z
UID:2335-1524664800-1524672000@slotcoordination.nl
SUMMARY:Telephone Consultation
DESCRIPTION:
URL:https://slotcoordination.nl/event/telephone-consultation-39/
END:VEVENT
BEGIN:VEVENT
DTSTART;VALUE=DATE:20180423
DTEND;VALUE=DATE:20180424
DTSTAMP:20260421T065104
CREATED:20180313T161803Z
LAST-MODIFIED:20180313T161803Z
UID:2379-1524441600-1524527999@slotcoordination.nl
SUMMARY:SHL Deadline W18
DESCRIPTION:
URL:https://slotcoordination.nl/event/shl-deadline-w18/
END:VEVENT
BEGIN:VEVENT
DTSTART;TZID=Europe/Amsterdam:20180418T140000
DTEND;TZID=Europe/Amsterdam:20180418T160000
DTSTAMP:20260421T065104
CREATED:20180313T161013Z
LAST-MODIFIED:20180313T161013Z
UID:2331-1524060000-1524067200@slotcoordination.nl
SUMMARY:Telephone Consultation
DESCRIPTION:
URL:https://slotcoordination.nl/event/telephone-consultation-38/
END:VEVENT
END:VCALENDAR