BEGIN:VCALENDAR
VERSION:2.0
PRODID:-//Airport Coordination Netherlands - ECPv6.15.18//NONSGML v1.0//EN
CALSCALE:GREGORIAN
METHOD:PUBLISH
X-WR-CALNAME:Airport Coordination Netherlands
X-ORIGINAL-URL:https://slotcoordination.nl
X-WR-CALDESC:Events for Airport Coordination Netherlands
REFRESH-INTERVAL;VALUE=DURATION:PT1H
X-Robots-Tag:noindex
X-PUBLISHED-TTL:PT1H
BEGIN:VTIMEZONE
TZID:Europe/Amsterdam
BEGIN:DAYLIGHT
TZOFFSETFROM:+0100
TZOFFSETTO:+0200
TZNAME:CEST
DTSTART:20170326T010000
END:DAYLIGHT
BEGIN:STANDARD
TZOFFSETFROM:+0200
TZOFFSETTO:+0100
TZNAME:CET
DTSTART:20171029T010000
END:STANDARD
BEGIN:DAYLIGHT
TZOFFSETFROM:+0100
TZOFFSETTO:+0200
TZNAME:CEST
DTSTART:20180325T010000
END:DAYLIGHT
BEGIN:STANDARD
TZOFFSETFROM:+0200
TZOFFSETTO:+0100
TZNAME:CET
DTSTART:20181028T010000
END:STANDARD
BEGIN:DAYLIGHT
TZOFFSETFROM:+0100
TZOFFSETTO:+0200
TZNAME:CEST
DTSTART:20190331T010000
END:DAYLIGHT
BEGIN:STANDARD
TZOFFSETFROM:+0200
TZOFFSETTO:+0100
TZNAME:CET
DTSTART:20191027T010000
END:STANDARD
END:VTIMEZONE
BEGIN:VEVENT
DTSTART;TZID=Europe/Amsterdam:20181128T140000
DTEND;TZID=Europe/Amsterdam:20181128T160000
DTSTAMP:20260421T035438
CREATED:20180724T100325Z
LAST-MODIFIED:20180724T100325Z
UID:2927-1543413600-1543420800@slotcoordination.nl
SUMMARY:Telephone Consultation
DESCRIPTION:
URL:https://slotcoordination.nl/event/telephone-consultation-67/
END:VEVENT
BEGIN:VEVENT
DTSTART;TZID=Europe/Amsterdam:20181121T140000
DTEND;TZID=Europe/Amsterdam:20181121T160000
DTSTAMP:20260421T035438
CREATED:20180724T100417Z
LAST-MODIFIED:20180724T100417Z
UID:2931-1542808800-1542816000@slotcoordination.nl
SUMMARY:Telephone Consultation
DESCRIPTION:
URL:https://slotcoordination.nl/event/telephone-consultation-68/
END:VEVENT
BEGIN:VEVENT
DTSTART;TZID=Europe/Amsterdam:20181114T140000
DTEND;TZID=Europe/Amsterdam:20181114T160000
DTSTAMP:20260421T035438
CREATED:20180724T100248Z
LAST-MODIFIED:20181019T073319Z
UID:2923-1542204000-1542211200@slotcoordination.nl
SUMMARY:Telephone Consultation
DESCRIPTION:
URL:https://slotcoordination.nl/event/telephone-consultation-66/
END:VEVENT
BEGIN:VEVENT
DTSTART;VALUE=DATE:20181113
DTEND;VALUE=DATE:20181117
DTSTAMP:20260421T035438
CREATED:20180724T101433Z
LAST-MODIFIED:20180724T101433Z
UID:2979-1542067200-1542412799@slotcoordination.nl
SUMMARY:IATA Slot Conference S19
DESCRIPTION:
URL:https://slotcoordination.nl/event/iata-slot-conference-s19/
END:VEVENT
BEGIN:VEVENT
DTSTART;TZID=Europe/Amsterdam:20181107T140000
DTEND;TZID=Europe/Amsterdam:20181107T160000
DTSTAMP:20260421T035438
CREATED:20180724T100156Z
LAST-MODIFIED:20180724T100156Z
UID:2919-1541599200-1541606400@slotcoordination.nl
SUMMARY:Telephone Consultation
DESCRIPTION:
URL:https://slotcoordination.nl/event/telephone-consultation-65/
END:VEVENT
BEGIN:VEVENT
DTSTART;VALUE=DATE:20181105
DTEND;VALUE=DATE:20181106
DTSTAMP:20260421T035438
CREATED:20180724T101349Z
LAST-MODIFIED:20180724T101349Z
UID:2973-1541376000-1541462399@slotcoordination.nl
SUMMARY:Appointments calendar opened to operators S19
DESCRIPTION:
URL:https://slotcoordination.nl/event/appointments-calendar-opened-to-operators-s19/
END:VEVENT
BEGIN:VEVENT
DTSTART;VALUE=DATE:20181101
DTEND;VALUE=DATE:20181102
DTSTAMP:20260421T035438
CREATED:20180724T101226Z
LAST-MODIFIED:20180724T101226Z
UID:2965-1541030400-1541116799@slotcoordination.nl
SUMMARY:SAL Deadline S19
DESCRIPTION:
URL:https://slotcoordination.nl/event/sal-deadline-s19/
END:VEVENT
BEGIN:VEVENT
DTSTART;TZID=Europe/Amsterdam:20181031T140000
DTEND;TZID=Europe/Amsterdam:20181031T160000
DTSTAMP:20260421T035438
CREATED:20180724T100119Z
LAST-MODIFIED:20180724T100119Z
UID:2915-1540994400-1541001600@slotcoordination.nl
SUMMARY:Telephone Consultation
DESCRIPTION:
URL:https://slotcoordination.nl/event/telephone-consultation-64/
END:VEVENT
BEGIN:VEVENT
DTSTART;VALUE=DATE:20181030
DTEND;VALUE=DATE:20181031
DTSTAMP:20260421T035438
CREATED:20180724T101315Z
LAST-MODIFIED:20180724T101315Z
UID:2969-1540857600-1540943999@slotcoordination.nl
SUMMARY:Appointments Calendar opened to Coordinators S19
DESCRIPTION:
URL:https://slotcoordination.nl/event/appointments-calendar-opened-to-coordinators-s19/
END:VEVENT
BEGIN:VEVENT
DTSTART;VALUE=DATE:20181028
DTEND;VALUE=DATE:20181029
DTSTAMP:20260421T035438
CREATED:20180313T162424Z
LAST-MODIFIED:20180313T162424Z
UID:2405-1540684800-1540771199@slotcoordination.nl
SUMMARY:Start of Season W18
DESCRIPTION:
URL:https://slotcoordination.nl/event/start-of-season-w18/
END:VEVENT
BEGIN:VEVENT
DTSTART;TZID=Europe/Amsterdam:20181024T140000
DTEND;TZID=Europe/Amsterdam:20181024T160000
DTSTAMP:20260421T035438
CREATED:20180724T100022Z
LAST-MODIFIED:20180724T100022Z
UID:2911-1540389600-1540396800@slotcoordination.nl
SUMMARY:Telephone Consultation
DESCRIPTION:
URL:https://slotcoordination.nl/event/telephone-consultation-63/
END:VEVENT
BEGIN:VEVENT
DTSTART;TZID=Europe/Amsterdam:20181017T140000
DTEND;TZID=Europe/Amsterdam:20181017T160000
DTSTAMP:20260421T035438
CREATED:20180724T095947Z
LAST-MODIFIED:20180724T095947Z
UID:2907-1539784800-1539792000@slotcoordination.nl
SUMMARY:Telephone Consultation
DESCRIPTION:
URL:https://slotcoordination.nl/event/telephone-consultation-62/
END:VEVENT
BEGIN:VEVENT
DTSTART;TZID=Europe/Amsterdam:20181010T140000
DTEND;TZID=Europe/Amsterdam:20181010T160000
DTSTAMP:20260421T035438
CREATED:20180724T095912Z
LAST-MODIFIED:20180724T095912Z
UID:2903-1539180000-1539187200@slotcoordination.nl
SUMMARY:Telephone Consultation
DESCRIPTION:
URL:https://slotcoordination.nl/event/telephone-consultation-61/
END:VEVENT
BEGIN:VEVENT
DTSTART;VALUE=DATE:20181004
DTEND;VALUE=DATE:20181005
DTSTAMP:20260421T035438
CREATED:20180724T101117Z
LAST-MODIFIED:20180724T101117Z
UID:2961-1538611200-1538697599@slotcoordination.nl
SUMMARY:Initial Submission Deadline S19
DESCRIPTION:
URL:https://slotcoordination.nl/event/initial-submission-deadline-s19/
END:VEVENT
BEGIN:VEVENT
DTSTART;TZID=Europe/Amsterdam:20181003T140000
DTEND;TZID=Europe/Amsterdam:20181003T160000
DTSTAMP:20260421T035438
CREATED:20180724T095751Z
LAST-MODIFIED:20180724T095751Z
UID:2899-1538575200-1538582400@slotcoordination.nl
SUMMARY:Telephone Consultation
DESCRIPTION:
URL:https://slotcoordination.nl/event/telephone-consultation-60/
END:VEVENT
BEGIN:VEVENT
DTSTART;VALUE=DATE:20180927
DTEND;VALUE=DATE:20180928
DTSTAMP:20260421T035438
CREATED:20180724T101030Z
LAST-MODIFIED:20180724T101030Z
UID:2957-1538006400-1538092799@slotcoordination.nl
SUMMARY:Agreed Historics Deadline S19
DESCRIPTION:
URL:https://slotcoordination.nl/event/agreed-historics-deadline-s19/
END:VEVENT
BEGIN:VEVENT
DTSTART;TZID=Europe/Amsterdam:20180926T140000
DTEND;TZID=Europe/Amsterdam:20180926T160000
DTSTAMP:20260421T035438
CREATED:20180724T095541Z
LAST-MODIFIED:20180724T095541Z
UID:2895-1537970400-1537977600@slotcoordination.nl
SUMMARY:Telephone Consultation
DESCRIPTION:
URL:https://slotcoordination.nl/event/telephone-consultation-59/
END:VEVENT
BEGIN:VEVENT
DTSTART;TZID=Europe/Amsterdam:20180919T140000
DTEND;TZID=Europe/Amsterdam:20180919T160000
DTSTAMP:20260421T035438
CREATED:20180724T095503Z
LAST-MODIFIED:20180724T095503Z
UID:2891-1537365600-1537372800@slotcoordination.nl
SUMMARY:Telephone Consultation
DESCRIPTION:
URL:https://slotcoordination.nl/event/telephone-consultation-58/
END:VEVENT
BEGIN:VEVENT
DTSTART;TZID=Europe/Amsterdam:20180912T140000
DTEND;TZID=Europe/Amsterdam:20180912T160000
DTSTAMP:20260421T035438
CREATED:20180724T095430Z
LAST-MODIFIED:20180724T095430Z
UID:2887-1536760800-1536768000@slotcoordination.nl
SUMMARY:Telephone Consultation
DESCRIPTION:
URL:https://slotcoordination.nl/event/telephone-consultation-57/
END:VEVENT
BEGIN:VEVENT
DTSTART;VALUE=DATE:20180910
DTEND;VALUE=DATE:20180911
DTSTAMP:20260421T035438
CREATED:20180724T100938Z
LAST-MODIFIED:20180724T100938Z
UID:2953-1536537600-1536623999@slotcoordination.nl
SUMMARY:SHL Deadline S19
DESCRIPTION:
URL:https://slotcoordination.nl/event/shl-deadline-s19/
END:VEVENT
BEGIN:VEVENT
DTSTART;TZID=Europe/Amsterdam:20180905T140000
DTEND;TZID=Europe/Amsterdam:20180905T160000
DTSTAMP:20260421T035438
CREATED:20180724T095357Z
LAST-MODIFIED:20180724T095357Z
UID:2883-1536156000-1536163200@slotcoordination.nl
SUMMARY:Telephone Consultation
DESCRIPTION:
URL:https://slotcoordination.nl/event/telephone-consultation-56/
END:VEVENT
BEGIN:VEVENT
DTSTART;VALUE=DATE:20180831
DTEND;VALUE=DATE:20180901
DTSTAMP:20260421T035438
CREATED:20180313T162350Z
LAST-MODIFIED:20180313T162350Z
UID:2401-1535673600-1535759999@slotcoordination.nl
SUMMARY:Historic Baseline Date W18
DESCRIPTION:
URL:https://slotcoordination.nl/event/historic-baseline-date-w18/
END:VEVENT
BEGIN:VEVENT
DTSTART;TZID=Europe/Amsterdam:20180829T140000
DTEND;TZID=Europe/Amsterdam:20180829T160000
DTSTAMP:20260421T035438
CREATED:20180724T095318Z
LAST-MODIFIED:20180724T095318Z
UID:2879-1535551200-1535558400@slotcoordination.nl
SUMMARY:Telephone Consultation
DESCRIPTION:
URL:https://slotcoordination.nl/event/telephone-consultation-55/
END:VEVENT
BEGIN:VEVENT
DTSTART;TZID=Europe/Amsterdam:20180822T140000
DTEND;TZID=Europe/Amsterdam:20180822T160000
DTSTAMP:20260421T035438
CREATED:20180724T095247Z
LAST-MODIFIED:20180724T095247Z
UID:2875-1534946400-1534953600@slotcoordination.nl
SUMMARY:Telephone Consultation
DESCRIPTION:
URL:https://slotcoordination.nl/event/telephone-consultation-54/
END:VEVENT
BEGIN:VEVENT
DTSTART;TZID=Europe/Amsterdam:20180815T140000
DTEND;TZID=Europe/Amsterdam:20180815T160000
DTSTAMP:20260421T035438
CREATED:20180724T095158Z
LAST-MODIFIED:20180724T095158Z
UID:2871-1534341600-1534348800@slotcoordination.nl
SUMMARY:Telephone Consultation
DESCRIPTION:
URL:https://slotcoordination.nl/event/telephone-consultation-53/
END:VEVENT
BEGIN:VEVENT
DTSTART;VALUE=DATE:20180815
DTEND;VALUE=DATE:20180816
DTSTAMP:20260421T035438
CREATED:20180313T162247Z
LAST-MODIFIED:20180313T162247Z
UID:2397-1534291200-1534377599@slotcoordination.nl
SUMMARY:Slot return Deadline W18
DESCRIPTION:
URL:https://slotcoordination.nl/event/slot-return-deadline-w18/
END:VEVENT
BEGIN:VEVENT
DTSTART;TZID=Europe/Amsterdam:20180808T140000
DTEND;TZID=Europe/Amsterdam:20180808T160000
DTSTAMP:20260421T035438
CREATED:20180724T095052Z
LAST-MODIFIED:20180724T095052Z
UID:2867-1533736800-1533744000@slotcoordination.nl
SUMMARY:Telephone Consultation
DESCRIPTION:
URL:https://slotcoordination.nl/event/telephone-consultation-52/
END:VEVENT
BEGIN:VEVENT
DTSTART;TZID=Europe/Amsterdam:20180801T140000
DTEND;TZID=Europe/Amsterdam:20180801T160000
DTSTAMP:20260421T035438
CREATED:20180724T095017Z
LAST-MODIFIED:20180724T095017Z
UID:2863-1533132000-1533139200@slotcoordination.nl
SUMMARY:Telephone Consultation
DESCRIPTION:
URL:https://slotcoordination.nl/event/telephone-consultation-51/
END:VEVENT
BEGIN:VEVENT
DTSTART;TZID=Europe/Amsterdam:20180725T140000
DTEND;TZID=Europe/Amsterdam:20180725T160000
DTSTAMP:20260421T035438
CREATED:20180724T094939Z
LAST-MODIFIED:20180724T094939Z
UID:2859-1532527200-1532534400@slotcoordination.nl
SUMMARY:Telephone Consultation
DESCRIPTION:
URL:https://slotcoordination.nl/event/telephone-consultation-50/
END:VEVENT
BEGIN:VEVENT
DTSTART;TZID=Europe/Amsterdam:20180718T140000
DTEND;TZID=Europe/Amsterdam:20180718T160000
DTSTAMP:20260421T035438
CREATED:20180724T094910Z
LAST-MODIFIED:20180724T094910Z
UID:2853-1531922400-1531929600@slotcoordination.nl
SUMMARY:Telephone Consultation
DESCRIPTION:
URL:https://slotcoordination.nl/event/telephone-consultation-49/
END:VEVENT
END:VCALENDAR